{"text_format":"1","workbook":"xlsx","n_sheets":7,"sheets":["Menu","Colab","Calculos","Projeção","Dash1","Instruções","Calc"],"not_rendered":{"charts":3,"images":8,"macros":1,"external_links":0,"defined_names":9,"comments":0,"pivot_tables":0},"unopened":[],"bounds":{"document_bytes":16777216,"sheet_cells":100000,"rows_first":2000,"rows_last":500,"rows_between":2000,"halvings":0,"cell_chars":16384,"cell_head_chars":4096},"cells_cut":0,"cells_raw":0,"read":"whole","date_system":"1900"}

{"sheet":"Menu","index":0,"n_rows":26,"n_cols":7,"rows_kept":26,"cut":false,"hidden":false,"merged":[[25,4,25,5],[25,6,25,14]]}
[]
[]
[]
[]
[]
[]
[]
[]
[]
[]
[]
[]
[]
[]
[]
[]
[]
[]
[]
[]
[]
[]
[]
[]
[]
[null,null,null,null,"Empresa:",null,"Empresa ABCDE"]

{"sheet":"Colab","index":1,"n_rows":63,"n_cols":11,"rows_kept":63,"cut":false,"hidden":false,"merged":[[9,2,9,3],[11,1,11,8],[12,6,12,7]]}
[]
[]
[]
[]
[]
[]
[]
[]
[]
[null,"Empresa:",{"$f":"Menu!G26","v":"Empresa ABCDE"}]
[]
[null,"CADASTRO DE COLABORADORES\nInsira os dados dos seus colaboradores."]
[null,"Colaborador","Área","Cargo","Data Admissão","Salário Base","Período Aquisitivo",null,"Limite de Gozo","Data Retirada Férias","Status"]
[null,"José da Silva","Administrativo","Assistente Administrativo",null,2000,"2020-01-01","2019-05-31",{"$f":"IF(H14=\"\",\"\",H14+336)","v":"2020-05-01"},null,{"$f":"IF(B14=\"\",\"\",IF(AND(J14=\"\",I14<TODAY()),\"Férias Vencida\",IF(J14=\"\",\"Férias a Vencer\",IF(J14<>\"\",\"Férias Retirada\",\"\"))))","v":"Férias Vencida"}]
[null,"João Alves","Produção","Auxiliar de PCP",null,1200,"2019-10-15","2020-10-14",{"$f":"IF(H15=\"\",\"\",H15+336)","v":"2021-09-15"},"2020-10-14",{"$f":"IF(B15=\"\",\"\",IF(AND(J15=\"\",I15<TODAY()),\"Férias Vencida\",IF(J15=\"\",\"Férias a Vencer\",IF(J15<>\"\",\"Férias Retirada\",\"\"))))","v":"Férias Retirada"}]
[null,"Paulo Vitor","Almoxarifado","Almoxarife",null,1500,"2019-05-10","2020-05-09","2021-04-10",null,"Férias Vencida"]
[null,null,null,null,null,null,null,null,"",null,""]
[null,null,null,null,null,null,null,null,"",null,""]
[null,null,null,null,null,null,null,null,"",null,""]
[null,null,null,null,null,null,null,null,"",null,""]
[null,null,null,null,null,null,null,null,"",null,""]
[null,null,null,null,null,null,null,null,"",null,""]
[null,null,null,null,null,null,null,null,"",null,""]
[null,null,null,null,null,null,null,null,"",null,""]
[null,null,null,null,null,null,null,null,"",null,""]
[null,null,null,null,null,null,null,null,"",null,""]
[null,null,null,null,null,null,null,null,"",null,""]
[null,null,null,null,null,null,null,null,"",null,""]
[null,null,null,null,null,null,null,null,"",null,""]
[null,null,null,null,null,null,null,null,"",null,""]
[null,null,null,null,null,null,null,null,"",null,""]
[null,null,null,null,null,null,null,null,"",null,""]
[null,null,null,null,null,null,null,null,"",null,""]
[null,null,null,null,null,null,null,null,"",null,""]
[null,null,null,null,null,null,null,null,"",null,""]
[null,null,null,null,null,null,null,null,"",null,""]
[null,null,null,null,null,null,null,null,"",null,""]
[null,null,null,null,null,null,null,null,"",null,""]
[null,null,null,null,null,null,null,null,"",null,""]
[null,null,null,null,null,null,null,null,"",null,""]
[null,null,null,null,null,null,null,null,"",null,""]
[null,null,null,null,null,null,null,null,"",null,""]
[null,null,null,null,null,null,null,null,"",null,""]
[null,null,null,null,null,null,null,null,"",null,""]
[null,null,null,null,null,null,null,null,"",null,""]
[null,null,null,null,null,null,null,null,"",null,""]
[null,null,null,null,null,null,null,null,"",null,""]
[null,null,null,null,null,null,null,null,"",null,""]
[null,null,null,null,null,null,null,null,"",null,""]
[null,null,null,null,null,null,null,null,"",null,""]
[null,null,null,null,null,null,null,null,"",null,""]
[null,null,null,null,null,null,null,null,"",null,""]
[null,null,null,null,null,null,null,null,"",null,""]
[null,null,null,null,null,null,null,null,"",null,""]
[null,null,null,null,null,null,null,null,"",null,""]
[null,null,null,null,null,null,null,null,"",null,""]
[null,null,null,null,null,null,null,null,"",null,""]
[null,null,null,null,null,null,null,null,"",null,""]
[null,null,null,null,null,null,null,null,"",null,""]
[null,null,null,null,null,null,null,null,"",null,""]
[null,null,null,null,null,null,null,null,"",null,""]
[null,null,null,null,null,null,null,null,"",null,""]
[null,null,null,null,null,null,null,null,"",null,""]

{"sheet":"Calculos","index":2,"n_rows":63,"n_cols":17,"rows_kept":63,"cut":false,"hidden":false,"merged":[[9,3,9,13],[11,1,11,13]]}
[]
[]
[]
[]
[]
[]
[]
[]
[]
[null,"Empresa:",null,{"$f":"Menu!G26","v":"Empresa ABCDE"}]
[]
[null,"CÁLCULOS DOS DESEMBOLSOS\nNessa tela é possível visualizar os desembolsos de cada funcionário."]
[null,"Colaborador","Dias Férias","Salário Base","Valor Médio Horas Extras","Remuneração Variável","1/3 Férias","INSS","IR","Outras Deduções","Dias Vendidos","Abono Pecuniário","Adiantar 13º nas Férias","Total Líquido",null,null,"Média"]
[null,"José da Silva",10,{"$f":"IFERROR(VLOOKUP(B14,Colab!$B$14:$F$63,5,0)*C14/30,\"\")","v":666.66666666666663},null,null,{"$f":"IFERROR((D14+E14+F14)/3,\"\")","v":222.2222222222222},{"$f":"IFERROR((D14+E14+F14+G14)*VLOOKUP((D14+E14+F14+G14),Calc!$A$2:$B$5,2,1),0)","v":0},{"$f":"IFERROR((D14+E14+F14+G14-H14-J14)*VLOOKUP((D14+E14+F14+G14-H14-J14),Calc!$D$2:$F$6,2,1)-VLOOKUP((D14+E14+F14+G14-H14-J14),Calc!$D$2:$F$6,3,1),0)","v":0},null,10,{"$f":"IFERROR(((VLOOKUP(B14,Colab!$B$14:$F$63,5,0)+E14+F14)/30)*K14,\"\")","v":666.66666666666674},null,{"$f":"IFERROR(D14+E14+F14+G14-H14-I14-J14+L14+M14,\"\")","v":1555.5555555555557},null,null,{"$f":"IFERROR(AVERAGEIF(D14:N14,\">0\"),\"\")","v":624.22222222222229}]
[null,"José da Silva",10,{"$f":"IFERROR(VLOOKUP(B15,Colab!$B$14:$F$63,5,0)*C15/30,\"\")","v":666.66666666666663},null,null,{"$f":"IFERROR((D15+E15+F15)/3,\"\")","v":222.2222222222222},{"$f":"IFERROR((D15+E15+F15+G15)*VLOOKUP((D15+E15+F15+G15),Calc!$A$2:$B$5,2,1),0)","v":0},{"$f":"IFERROR((D15+E15+F15+G15-H15-J15)*VLOOKUP((D15+E15+F15+G15-H15-J15),Calc!$D$2:$F$6,2,1)-VLOOKUP((D15+E15+F15+G15-H15-J15),Calc!$D$2:$F$6,3,1),0)","v":0},null,null,{"$f":"IFERROR(((VLOOKUP(B15,Colab!$B$14:$F$63,5,0)+E15+F15)/30)*K15,\"\")","v":0},null,{"$f":"IFERROR(D15+E15+F15+G15-H15-I15-J15+L15+M15,\"\")","v":888.8888888888888},null,null,592.5925925925925]
[null,null,null,{"$f":"IFERROR(VLOOKUP(B16,Colab!$B$14:$F$63,5,0)*C16/30,\"\")","v":""},null,null,"",{"$f":"IFERROR((D16+E16+F16+G16)*VLOOKUP((D16+E16+F16+G16),Calc!$A$2:$B$5,2,1),0)","v":0},{"$f":"IFERROR((D16+E16+F16+G16-H16-J16)*VLOOKUP((D16+E16+F16+G16-H16-J16),Calc!$D$2:$F$6,2,1)-VLOOKUP((D16+E16+F16+G16-H16-J16),Calc!$D$2:$F$6,3,1),0)","v":0},null,null,{"$f":"IFERROR(((VLOOKUP(B16,Colab!$B$14:$F$63,5,0)+E16+F16)/30)*K16,\"\")","v":""},null,"",null,null,""]
[null,null,null,{"$f":"IFERROR(VLOOKUP(B17,Colab!$B$14:$F$63,5,0)*C17/30,\"\")","v":""},null,null,"",{"$f":"IFERROR((D17+E17+F17+G17)*VLOOKUP((D17+E17+F17+G17),Calc!$A$2:$B$5,2,1),0)","v":0},{"$f":"IFERROR((D17+E17+F17+G17-H17-J17)*VLOOKUP((D17+E17+F17+G17-H17-J17),Calc!$D$2:$F$6,2,1)-VLOOKUP((D17+E17+F17+G17-H17-J17),Calc!$D$2:$F$6,3,1),0)","v":0},null,null,{"$f":"IFERROR(((VLOOKUP(B17,Colab!$B$14:$F$63,5,0)+E17+F17)/30)*K17,\"\")","v":""},null,"",null,null,""]
[null,null,null,{"$f":"IFERROR(VLOOKUP(B18,Colab!$B$14:$F$63,5,0)*C18/30,\"\")","v":""},null,null,"",{"$f":"IFERROR((D18+E18+F18+G18)*VLOOKUP((D18+E18+F18+G18),Calc!$A$2:$B$5,2,1),0)","v":0},{"$f":"IFERROR((D18+E18+F18+G18-H18-J18)*VLOOKUP((D18+E18+F18+G18-H18-J18),Calc!$D$2:$F$6,2,1)-VLOOKUP((D18+E18+F18+G18-H18-J18),Calc!$D$2:$F$6,3,1),0)","v":0},null,null,{"$f":"IFERROR(((VLOOKUP(B18,Colab!$B$14:$F$63,5,0)+E18+F18)/30)*K18,\"\")","v":""},null,"",null,null,""]
[null,null,null,{"$f":"IFERROR(VLOOKUP(B19,Colab!$B$14:$F$63,5,0)*C19/30,\"\")","v":""},null,null,"",{"$f":"IFERROR((D19+E19+F19+G19)*VLOOKUP((D19+E19+F19+G19),Calc!$A$2:$B$5,2,1),0)","v":0},{"$f":"IFERROR((D19+E19+F19+G19-H19-J19)*VLOOKUP((D19+E19+F19+G19-H19-J19),Calc!$D$2:$F$6,2,1)-VLOOKUP((D19+E19+F19+G19-H19-J19),Calc!$D$2:$F$6,3,1),0)","v":0},null,null,{"$f":"IFERROR(((VLOOKUP(B19,Colab!$B$14:$F$63,5,0)+E19+F19)/30)*K19,\"\")","v":""},null,"",null,null,""]
[null,null,null,{"$f":"IFERROR(VLOOKUP(B20,Colab!$B$14:$F$63,5,0)*C20/30,\"\")","v":""},null,null,"",{"$f":"IFERROR((D20+E20+F20+G20)*VLOOKUP((D20+E20+F20+G20),Calc!$A$2:$B$5,2,1),0)","v":0},{"$f":"IFERROR((D20+E20+F20+G20-H20-J20)*VLOOKUP((D20+E20+F20+G20-H20-J20),Calc!$D$2:$F$6,2,1)-VLOOKUP((D20+E20+F20+G20-H20-J20),Calc!$D$2:$F$6,3,1),0)","v":0},null,null,{"$f":"IFERROR(((VLOOKUP(B20,Colab!$B$14:$F$63,5,0)+E20+F20)/30)*K20,\"\")","v":""},null,"",null,null,""]
[null,null,null,{"$f":"IFERROR(VLOOKUP(B21,Colab!$B$14:$F$63,5,0)*C21/30,\"\")","v":""},null,null,"",{"$f":"IFERROR((D21+E21+F21+G21)*VLOOKUP((D21+E21+F21+G21),Calc!$A$2:$B$5,2,1),0)","v":0},{"$f":"IFERROR((D21+E21+F21+G21-H21-J21)*VLOOKUP((D21+E21+F21+G21-H21-J21),Calc!$D$2:$F$6,2,1)-VLOOKUP((D21+E21+F21+G21-H21-J21),Calc!$D$2:$F$6,3,1),0)","v":0},null,null,{"$f":"IFERROR(((VLOOKUP(B21,Colab!$B$14:$F$63,5,0)+E21+F21)/30)*K21,\"\")","v":""},null,"",null,null,""]
[null,null,null,{"$f":"IFERROR(VLOOKUP(B22,Colab!$B$14:$F$63,5,0)*C22/30,\"\")","v":""},null,null,"",{"$f":"IFERROR((D22+E22+F22+G22)*VLOOKUP((D22+E22+F22+G22),Calc!$A$2:$B$5,2,1),0)","v":0},{"$f":"IFERROR((D22+E22+F22+G22-H22-J22)*VLOOKUP((D22+E22+F22+G22-H22-J22),Calc!$D$2:$F$6,2,1)-VLOOKUP((D22+E22+F22+G22-H22-J22),Calc!$D$2:$F$6,3,1),0)","v":0},null,null,{"$f":"IFERROR(((VLOOKUP(B22,Colab!$B$14:$F$63,5,0)+E22+F22)/30)*K22,\"\")","v":""},null,"",null,null,""]
[null,null,null,{"$f":"IFERROR(VLOOKUP(B23,Colab!$B$14:$F$63,5,0)*C23/30,\"\")","v":""},null,null,"",{"$f":"IFERROR((D23+E23+F23+G23)*VLOOKUP((D23+E23+F23+G23),Calc!$A$2:$B$5,2,1),0)","v":0},{"$f":"IFERROR((D23+E23+F23+G23-H23-J23)*VLOOKUP((D23+E23+F23+G23-H23-J23),Calc!$D$2:$F$6,2,1)-VLOOKUP((D23+E23+F23+G23-H23-J23),Calc!$D$2:$F$6,3,1),0)","v":0},null,null,{"$f":"IFERROR(((VLOOKUP(B23,Colab!$B$14:$F$63,5,0)+E23+F23)/30)*K23,\"\")","v":""},null,"",null,null,""]
[null,null,null,{"$f":"IFERROR(VLOOKUP(B24,Colab!$B$14:$F$63,5,0)*C24/30,\"\")","v":""},null,null,"",{"$f":"IFERROR((D24+E24+F24+G24)*VLOOKUP((D24+E24+F24+G24),Calc!$A$2:$B$5,2,1),0)","v":0},{"$f":"IFERROR((D24+E24+F24+G24-H24-J24)*VLOOKUP((D24+E24+F24+G24-H24-J24),Calc!$D$2:$F$6,2,1)-VLOOKUP((D24+E24+F24+G24-H24-J24),Calc!$D$2:$F$6,3,1),0)","v":0},null,null,{"$f":"IFERROR(((VLOOKUP(B24,Colab!$B$14:$F$63,5,0)+E24+F24)/30)*K24,\"\")","v":""},null,"",null,null,""]
[null,null,null,{"$f":"IFERROR(VLOOKUP(B25,Colab!$B$14:$F$63,5,0)*C25/30,\"\")","v":""},null,null,"",{"$f":"IFERROR((D25+E25+F25+G25)*VLOOKUP((D25+E25+F25+G25),Calc!$A$2:$B$5,2,1),0)","v":0},{"$f":"IFERROR((D25+E25+F25+G25-H25-J25)*VLOOKUP((D25+E25+F25+G25-H25-J25),Calc!$D$2:$F$6,2,1)-VLOOKUP((D25+E25+F25+G25-H25-J25),Calc!$D$2:$F$6,3,1),0)","v":0},null,null,{"$f":"IFERROR(((VLOOKUP(B25,Colab!$B$14:$F$63,5,0)+E25+F25)/30)*K25,\"\")","v":""},null,"",null,null,""]
[null,null,null,{"$f":"IFERROR(VLOOKUP(B26,Colab!$B$14:$F$63,5,0)*C26/30,\"\")","v":""},null,null,"",{"$f":"IFERROR((D26+E26+F26+G26)*VLOOKUP((D26+E26+F26+G26),Calc!$A$2:$B$5,2,1),0)","v":0},{"$f":"IFERROR((D26+E26+F26+G26-H26-J26)*VLOOKUP((D26+E26+F26+G26-H26-J26),Calc!$D$2:$F$6,2,1)-VLOOKUP((D26+E26+F26+G26-H26-J26),Calc!$D$2:$F$6,3,1),0)","v":0},null,null,{"$f":"IFERROR(((VLOOKUP(B26,Colab!$B$14:$F$63,5,0)+E26+F26)/30)*K26,\"\")","v":""},null,"",null,null,""]
[null,null,null,{"$f":"IFERROR(VLOOKUP(B27,Colab!$B$14:$F$63,5,0)*C27/30,\"\")","v":""},null,null,"",{"$f":"IFERROR((D27+E27+F27+G27)*VLOOKUP((D27+E27+F27+G27),Calc!$A$2:$B$5,2,1),0)","v":0},{"$f":"IFERROR((D27+E27+F27+G27-H27-J27)*VLOOKUP((D27+E27+F27+G27-H27-J27),Calc!$D$2:$F$6,2,1)-VLOOKUP((D27+E27+F27+G27-H27-J27),Calc!$D$2:$F$6,3,1),0)","v":0},null,null,{"$f":"IFERROR(((VLOOKUP(B27,Colab!$B$14:$F$63,5,0)+E27+F27)/30)*K27,\"\")","v":""},null,"",null,null,""]
[null,null,null,{"$f":"IFERROR(VLOOKUP(B28,Colab!$B$14:$F$63,5,0)*C28/30,\"\")","v":""},null,null,"",{"$f":"IFERROR((D28+E28+F28+G28)*VLOOKUP((D28+E28+F28+G28),Calc!$A$2:$B$5,2,1),0)","v":0},{"$f":"IFERROR((D28+E28+F28+G28-H28-J28)*VLOOKUP((D28+E28+F28+G28-H28-J28),Calc!$D$2:$F$6,2,1)-VLOOKUP((D28+E28+F28+G28-H28-J28),Calc!$D$2:$F$6,3,1),0)","v":0},null,null,{"$f":"IFERROR(((VLOOKUP(B28,Colab!$B$14:$F$63,5,0)+E28+F28)/30)*K28,\"\")","v":""},null,"",null,null,""]
[null,null,null,{"$f":"IFERROR(VLOOKUP(B29,Colab!$B$14:$F$63,5,0)*C29/30,\"\")","v":""},null,null,"",{"$f":"IFERROR((D29+E29+F29+G29)*VLOOKUP((D29+E29+F29+G29),Calc!$A$2:$B$5,2,1),0)","v":0},{"$f":"IFERROR((D29+E29+F29+G29-H29-J29)*VLOOKUP((D29+E29+F29+G29-H29-J29),Calc!$D$2:$F$6,2,1)-VLOOKUP((D29+E29+F29+G29-H29-J29),Calc!$D$2:$F$6,3,1),0)","v":0},null,null,{"$f":"IFERROR(((VLOOKUP(B29,Colab!$B$14:$F$63,5,0)+E29+F29)/30)*K29,\"\")","v":""},null,"",null,null,""]
[null,null,null,{"$f":"IFERROR(VLOOKUP(B30,Colab!$B$14:$F$63,5,0)*C30/30,\"\")","v":""},null,null,"",{"$f":"IFERROR((D30+E30+F30+G30)*VLOOKUP((D30+E30+F30+G30),Calc!$A$2:$B$5,2,1),0)","v":0},{"$f":"IFERROR((D30+E30+F30+G30-H30-J30)*VLOOKUP((D30+E30+F30+G30-H30-J30),Calc!$D$2:$F$6,2,1)-VLOOKUP((D30+E30+F30+G30-H30-J30),Calc!$D$2:$F$6,3,1),0)","v":0},null,null,{"$f":"IFERROR(((VLOOKUP(B30,Colab!$B$14:$F$63,5,0)+E30+F30)/30)*K30,\"\")","v":""},null,"",null,null,""]
[null,null,null,{"$f":"IFERROR(VLOOKUP(B31,Colab!$B$14:$F$63,5,0)*C31/30,\"\")","v":""},null,null,"",{"$f":"IFERROR((D31+E31+F31+G31)*VLOOKUP((D31+E31+F31+G31),Calc!$A$2:$B$5,2,1),0)","v":0},{"$f":"IFERROR((D31+E31+F31+G31-H31-J31)*VLOOKUP((D31+E31+F31+G31-H31-J31),Calc!$D$2:$F$6,2,1)-VLOOKUP((D31+E31+F31+G31-H31-J31),Calc!$D$2:$F$6,3,1),0)","v":0},null,null,{"$f":"IFERROR(((VLOOKUP(B31,Colab!$B$14:$F$63,5,0)+E31+F31)/30)*K31,\"\")","v":""},null,"",null,null,""]
[null,null,null,{"$f":"IFERROR(VLOOKUP(B32,Colab!$B$14:$F$63,5,0)*C32/30,\"\")","v":""},null,null,"",{"$f":"IFERROR((D32+E32+F32+G32)*VLOOKUP((D32+E32+F32+G32),Calc!$A$2:$B$5,2,1),0)","v":0},{"$f":"IFERROR((D32+E32+F32+G32-H32-J32)*VLOOKUP((D32+E32+F32+G32-H32-J32),Calc!$D$2:$F$6,2,1)-VLOOKUP((D32+E32+F32+G32-H32-J32),Calc!$D$2:$F$6,3,1),0)","v":0},null,null,{"$f":"IFERROR(((VLOOKUP(B32,Colab!$B$14:$F$63,5,0)+E32+F32)/30)*K32,\"\")","v":""},null,"",null,null,""]
[null,null,null,{"$f":"IFERROR(VLOOKUP(B33,Colab!$B$14:$F$63,5,0)*C33/30,\"\")","v":""},null,null,"",{"$f":"IFERROR((D33+E33+F33+G33)*VLOOKUP((D33+E33+F33+G33),Calc!$A$2:$B$5,2,1),0)","v":0},{"$f":"IFERROR((D33+E33+F33+G33-H33-J33)*VLOOKUP((D33+E33+F33+G33-H33-J33),Calc!$D$2:$F$6,2,1)-VLOOKUP((D33+E33+F33+G33-H33-J33),Calc!$D$2:$F$6,3,1),0)","v":0},null,null,{"$f":"IFERROR(((VLOOKUP(B33,Colab!$B$14:$F$63,5,0)+E33+F33)/30)*K33,\"\")","v":""},null,"",null,null,""]
[null,null,null,{"$f":"IFERROR(VLOOKUP(B34,Colab!$B$14:$F$63,5,0)*C34/30,\"\")","v":""},null,null,"",{"$f":"IFERROR((D34+E34+F34+G34)*VLOOKUP((D34+E34+F34+G34),Calc!$A$2:$B$5,2,1),0)","v":0},{"$f":"IFERROR((D34+E34+F34+G34-H34-J34)*VLOOKUP((D34+E34+F34+G34-H34-J34),Calc!$D$2:$F$6,2,1)-VLOOKUP((D34+E34+F34+G34-H34-J34),Calc!$D$2:$F$6,3,1),0)","v":0},null,null,{"$f":"IFERROR(((VLOOKUP(B34,Colab!$B$14:$F$63,5,0)+E34+F34)/30)*K34,\"\")","v":""},null,"",null,null,""]
[null,null,null,{"$f":"IFERROR(VLOOKUP(B35,Colab!$B$14:$F$63,5,0)*C35/30,\"\")","v":""},null,null,"",{"$f":"IFERROR((D35+E35+F35+G35)*VLOOKUP((D35+E35+F35+G35),Calc!$A$2:$B$5,2,1),0)","v":0},{"$f":"IFERROR((D35+E35+F35+G35-H35-J35)*VLOOKUP((D35+E35+F35+G35-H35-J35),Calc!$D$2:$F$6,2,1)-VLOOKUP((D35+E35+F35+G35-H35-J35),Calc!$D$2:$F$6,3,1),0)","v":0},null,null,{"$f":"IFERROR(((VLOOKUP(B35,Colab!$B$14:$F$63,5,0)+E35+F35)/30)*K35,\"\")","v":""},null,"",null,null,""]
[null,null,null,{"$f":"IFERROR(VLOOKUP(B36,Colab!$B$14:$F$63,5,0)*C36/30,\"\")","v":""},null,null,"",{"$f":"IFERROR((D36+E36+F36+G36)*VLOOKUP((D36+E36+F36+G36),Calc!$A$2:$B$5,2,1),0)","v":0},{"$f":"IFERROR((D36+E36+F36+G36-H36-J36)*VLOOKUP((D36+E36+F36+G36-H36-J36),Calc!$D$2:$F$6,2,1)-VLOOKUP((D36+E36+F36+G36-H36-J36),Calc!$D$2:$F$6,3,1),0)","v":0},null,null,{"$f":"IFERROR(((VLOOKUP(B36,Colab!$B$14:$F$63,5,0)+E36+F36)/30)*K36,\"\")","v":""},null,"",null,null,""]
[null,null,null,{"$f":"IFERROR(VLOOKUP(B37,Colab!$B$14:$F$63,5,0)*C37/30,\"\")","v":""},null,null,"",{"$f":"IFERROR((D37+E37+F37+G37)*VLOOKUP((D37+E37+F37+G37),Calc!$A$2:$B$5,2,1),0)","v":0},{"$f":"IFERROR((D37+E37+F37+G37-H37-J37)*VLOOKUP((D37+E37+F37+G37-H37-J37),Calc!$D$2:$F$6,2,1)-VLOOKUP((D37+E37+F37+G37-H37-J37),Calc!$D$2:$F$6,3,1),0)","v":0},null,null,{"$f":"IFERROR(((VLOOKUP(B37,Colab!$B$14:$F$63,5,0)+E37+F37)/30)*K37,\"\")","v":""},null,"",null,null,""]
[null,null,null,{"$f":"IFERROR(VLOOKUP(B38,Colab!$B$14:$F$63,5,0)*C38/30,\"\")","v":""},null,null,"",{"$f":"IFERROR((D38+E38+F38+G38)*VLOOKUP((D38+E38+F38+G38),Calc!$A$2:$B$5,2,1),0)","v":0},{"$f":"IFERROR((D38+E38+F38+G38-H38-J38)*VLOOKUP((D38+E38+F38+G38-H38-J38),Calc!$D$2:$F$6,2,1)-VLOOKUP((D38+E38+F38+G38-H38-J38),Calc!$D$2:$F$6,3,1),0)","v":0},null,null,{"$f":"IFERROR(((VLOOKUP(B38,Colab!$B$14:$F$63,5,0)+E38+F38)/30)*K38,\"\")","v":""},null,"",null,null,""]
[null,null,null,{"$f":"IFERROR(VLOOKUP(B39,Colab!$B$14:$F$63,5,0)*C39/30,\"\")","v":""},null,null,"",{"$f":"IFERROR((D39+E39+F39+G39)*VLOOKUP((D39+E39+F39+G39),Calc!$A$2:$B$5,2,1),0)","v":0},{"$f":"IFERROR((D39+E39+F39+G39-H39-J39)*VLOOKUP((D39+E39+F39+G39-H39-J39),Calc!$D$2:$F$6,2,1)-VLOOKUP((D39+E39+F39+G39-H39-J39),Calc!$D$2:$F$6,3,1),0)","v":0},null,null,{"$f":"IFERROR(((VLOOKUP(B39,Colab!$B$14:$F$63,5,0)+E39+F39)/30)*K39,\"\")","v":""},null,"",null,null,""]
[null,null,null,{"$f":"IFERROR(VLOOKUP(B40,Colab!$B$14:$F$63,5,0)*C40/30,\"\")","v":""},null,null,"",{"$f":"IFERROR((D40+E40+F40+G40)*VLOOKUP((D40+E40+F40+G40),Calc!$A$2:$B$5,2,1),0)","v":0},{"$f":"IFERROR((D40+E40+F40+G40-H40-J40)*VLOOKUP((D40+E40+F40+G40-H40-J40),Calc!$D$2:$F$6,2,1)-VLOOKUP((D40+E40+F40+G40-H40-J40),Calc!$D$2:$F$6,3,1),0)","v":0},null,null,{"$f":"IFERROR(((VLOOKUP(B40,Colab!$B$14:$F$63,5,0)+E40+F40)/30)*K40,\"\")","v":""},null,"",null,null,""]
[null,null,null,{"$f":"IFERROR(VLOOKUP(B41,Colab!$B$14:$F$63,5,0)*C41/30,\"\")","v":""},null,null,"",{"$f":"IFERROR((D41+E41+F41+G41)*VLOOKUP((D41+E41+F41+G41),Calc!$A$2:$B$5,2,1),0)","v":0},{"$f":"IFERROR((D41+E41+F41+G41-H41-J41)*VLOOKUP((D41+E41+F41+G41-H41-J41),Calc!$D$2:$F$6,2,1)-VLOOKUP((D41+E41+F41+G41-H41-J41),Calc!$D$2:$F$6,3,1),0)","v":0},null,null,{"$f":"IFERROR(((VLOOKUP(B41,Colab!$B$14:$F$63,5,0)+E41+F41)/30)*K41,\"\")","v":""},null,"",null,null,""]
[null,null,null,{"$f":"IFERROR(VLOOKUP(B42,Colab!$B$14:$F$63,5,0)*C42/30,\"\")","v":""},null,null,"",{"$f":"IFERROR((D42+E42+F42+G42)*VLOOKUP((D42+E42+F42+G42),Calc!$A$2:$B$5,2,1),0)","v":0},{"$f":"IFERROR((D42+E42+F42+G42-H42-J42)*VLOOKUP((D42+E42+F42+G42-H42-J42),Calc!$D$2:$F$6,2,1)-VLOOKUP((D42+E42+F42+G42-H42-J42),Calc!$D$2:$F$6,3,1),0)","v":0},null,null,{"$f":"IFERROR(((VLOOKUP(B42,Colab!$B$14:$F$63,5,0)+E42+F42)/30)*K42,\"\")","v":""},null,"",null,null,""]
[null,null,null,{"$f":"IFERROR(VLOOKUP(B43,Colab!$B$14:$F$63,5,0)*C43/30,\"\")","v":""},null,null,"",{"$f":"IFERROR((D43+E43+F43+G43)*VLOOKUP((D43+E43+F43+G43),Calc!$A$2:$B$5,2,1),0)","v":0},{"$f":"IFERROR((D43+E43+F43+G43-H43-J43)*VLOOKUP((D43+E43+F43+G43-H43-J43),Calc!$D$2:$F$6,2,1)-VLOOKUP((D43+E43+F43+G43-H43-J43),Calc!$D$2:$F$6,3,1),0)","v":0},null,null,{"$f":"IFERROR(((VLOOKUP(B43,Colab!$B$14:$F$63,5,0)+E43+F43)/30)*K43,\"\")","v":""},null,"",null,null,""]
[null,null,null,{"$f":"IFERROR(VLOOKUP(B44,Colab!$B$14:$F$63,5,0)*C44/30,\"\")","v":""},null,null,"",{"$f":"IFERROR((D44+E44+F44+G44)*VLOOKUP((D44+E44+F44+G44),Calc!$A$2:$B$5,2,1),0)","v":0},{"$f":"IFERROR((D44+E44+F44+G44-H44-J44)*VLOOKUP((D44+E44+F44+G44-H44-J44),Calc!$D$2:$F$6,2,1)-VLOOKUP((D44+E44+F44+G44-H44-J44),Calc!$D$2:$F$6,3,1),0)","v":0},null,null,{"$f":"IFERROR(((VLOOKUP(B44,Colab!$B$14:$F$63,5,0)+E44+F44)/30)*K44,\"\")","v":""},null,"",null,null,""]
[null,null,null,{"$f":"IFERROR(VLOOKUP(B45,Colab!$B$14:$F$63,5,0)*C45/30,\"\")","v":""},null,null,"",{"$f":"IFERROR((D45+E45+F45+G45)*VLOOKUP((D45+E45+F45+G45),Calc!$A$2:$B$5,2,1),0)","v":0},{"$f":"IFERROR((D45+E45+F45+G45-H45-J45)*VLOOKUP((D45+E45+F45+G45-H45-J45),Calc!$D$2:$F$6,2,1)-VLOOKUP((D45+E45+F45+G45-H45-J45),Calc!$D$2:$F$6,3,1),0)","v":0},null,null,{"$f":"IFERROR(((VLOOKUP(B45,Colab!$B$14:$F$63,5,0)+E45+F45)/30)*K45,\"\")","v":""},null,"",null,null,""]
[null,null,null,{"$f":"IFERROR(VLOOKUP(B46,Colab!$B$14:$F$63,5,0)*C46/30,\"\")","v":""},null,null,"",{"$f":"IFERROR((D46+E46+F46+G46)*VLOOKUP((D46+E46+F46+G46),Calc!$A$2:$B$5,2,1),0)","v":0},{"$f":"IFERROR((D46+E46+F46+G46-H46-J46)*VLOOKUP((D46+E46+F46+G46-H46-J46),Calc!$D$2:$F$6,2,1)-VLOOKUP((D46+E46+F46+G46-H46-J46),Calc!$D$2:$F$6,3,1),0)","v":0},null,null,{"$f":"IFERROR(((VLOOKUP(B46,Colab!$B$14:$F$63,5,0)+E46+F46)/30)*K46,\"\")","v":""},null,"",null,null,{"$f":"IFERROR(AVERAGEIF(D46:N46,\">0\"),\"\")","v":""}]
[null,null,null,{"$f":"IFERROR(VLOOKUP(B47,Colab!$B$14:$F$63,5,0)*C47/30,\"\")","v":""},null,null,"",{"$f":"IFERROR((D47+E47+F47+G47)*VLOOKUP((D47+E47+F47+G47),Calc!$A$2:$B$5,2,1),0)","v":0},{"$f":"IFERROR((D47+E47+F47+G47-H47-J47)*VLOOKUP((D47+E47+F47+G47-H47-J47),Calc!$D$2:$F$6,2,1)-VLOOKUP((D47+E47+F47+G47-H47-J47),Calc!$D$2:$F$6,3,1),0)","v":0},null,null,{"$f":"IFERROR(((VLOOKUP(B47,Colab!$B$14:$F$63,5,0)+E47+F47)/30)*K47,\"\")","v":""},null,"",null,null,""]
[null,null,null,{"$f":"IFERROR(VLOOKUP(B48,Colab!$B$14:$F$63,5,0)*C48/30,\"\")","v":""},null,null,"",{"$f":"IFERROR((D48+E48+F48+G48)*VLOOKUP((D48+E48+F48+G48),Calc!$A$2:$B$5,2,1),0)","v":0},{"$f":"IFERROR((D48+E48+F48+G48-H48-J48)*VLOOKUP((D48+E48+F48+G48-H48-J48),Calc!$D$2:$F$6,2,1)-VLOOKUP((D48+E48+F48+G48-H48-J48),Calc!$D$2:$F$6,3,1),0)","v":0},null,null,{"$f":"IFERROR(((VLOOKUP(B48,Colab!$B$14:$F$63,5,0)+E48+F48)/30)*K48,\"\")","v":""},null,"",null,null,""]
[null,null,null,{"$f":"IFERROR(VLOOKUP(B49,Colab!$B$14:$F$63,5,0)*C49/30,\"\")","v":""},null,null,"",{"$f":"IFERROR((D49+E49+F49+G49)*VLOOKUP((D49+E49+F49+G49),Calc!$A$2:$B$5,2,1),0)","v":0},{"$f":"IFERROR((D49+E49+F49+G49-H49-J49)*VLOOKUP((D49+E49+F49+G49-H49-J49),Calc!$D$2:$F$6,2,1)-VLOOKUP((D49+E49+F49+G49-H49-J49),Calc!$D$2:$F$6,3,1),0)","v":0},null,null,{"$f":"IFERROR(((VLOOKUP(B49,Colab!$B$14:$F$63,5,0)+E49+F49)/30)*K49,\"\")","v":""},null,"",null,null,""]
[null,null,null,{"$f":"IFERROR(VLOOKUP(B50,Colab!$B$14:$F$63,5,0)*C50/30,\"\")","v":""},null,null,"",{"$f":"IFERROR((D50+E50+F50+G50)*VLOOKUP((D50+E50+F50+G50),Calc!$A$2:$B$5,2,1),0)","v":0},{"$f":"IFERROR((D50+E50+F50+G50-H50-J50)*VLOOKUP((D50+E50+F50+G50-H50-J50),Calc!$D$2:$F$6,2,1)-VLOOKUP((D50+E50+F50+G50-H50-J50),Calc!$D$2:$F$6,3,1),0)","v":0},null,null,{"$f":"IFERROR(((VLOOKUP(B50,Colab!$B$14:$F$63,5,0)+E50+F50)/30)*K50,\"\")","v":""},null,"",null,null,""]
[null,null,null,{"$f":"IFERROR(VLOOKUP(B51,Colab!$B$14:$F$63,5,0)*C51/30,\"\")","v":""},null,null,"",{"$f":"IFERROR((D51+E51+F51+G51)*VLOOKUP((D51+E51+F51+G51),Calc!$A$2:$B$5,2,1),0)","v":0},{"$f":"IFERROR((D51+E51+F51+G51-H51-J51)*VLOOKUP((D51+E51+F51+G51-H51-J51),Calc!$D$2:$F$6,2,1)-VLOOKUP((D51+E51+F51+G51-H51-J51),Calc!$D$2:$F$6,3,1),0)","v":0},null,null,{"$f":"IFERROR(((VLOOKUP(B51,Colab!$B$14:$F$63,5,0)+E51+F51)/30)*K51,\"\")","v":""},null,"",null,null,""]
[null,null,null,{"$f":"IFERROR(VLOOKUP(B52,Colab!$B$14:$F$63,5,0)*C52/30,\"\")","v":""},null,null,"",{"$f":"IFERROR((D52+E52+F52+G52)*VLOOKUP((D52+E52+F52+G52),Calc!$A$2:$B$5,2,1),0)","v":0},{"$f":"IFERROR((D52+E52+F52+G52-H52-J52)*VLOOKUP((D52+E52+F52+G52-H52-J52),Calc!$D$2:$F$6,2,1)-VLOOKUP((D52+E52+F52+G52-H52-J52),Calc!$D$2:$F$6,3,1),0)","v":0},null,null,{"$f":"IFERROR(((VLOOKUP(B52,Colab!$B$14:$F$63,5,0)+E52+F52)/30)*K52,\"\")","v":""},null,"",null,null,""]
[null,null,null,{"$f":"IFERROR(VLOOKUP(B53,Colab!$B$14:$F$63,5,0)*C53/30,\"\")","v":""},null,null,"",{"$f":"IFERROR((D53+E53+F53+G53)*VLOOKUP((D53+E53+F53+G53),Calc!$A$2:$B$5,2,1),0)","v":0},{"$f":"IFERROR((D53+E53+F53+G53-H53-J53)*VLOOKUP((D53+E53+F53+G53-H53-J53),Calc!$D$2:$F$6,2,1)-VLOOKUP((D53+E53+F53+G53-H53-J53),Calc!$D$2:$F$6,3,1),0)","v":0},null,null,{"$f":"IFERROR(((VLOOKUP(B53,Colab!$B$14:$F$63,5,0)+E53+F53)/30)*K53,\"\")","v":""},null,"",null,null,""]
[null,null,null,{"$f":"IFERROR(VLOOKUP(B54,Colab!$B$14:$F$63,5,0)*C54/30,\"\")","v":""},null,null,"",{"$f":"IFERROR((D54+E54+F54+G54)*VLOOKUP((D54+E54+F54+G54),Calc!$A$2:$B$5,2,1),0)","v":0},{"$f":"IFERROR((D54+E54+F54+G54-H54-J54)*VLOOKUP((D54+E54+F54+G54-H54-J54),Calc!$D$2:$F$6,2,1)-VLOOKUP((D54+E54+F54+G54-H54-J54),Calc!$D$2:$F$6,3,1),0)","v":0},null,null,{"$f":"IFERROR(((VLOOKUP(B54,Colab!$B$14:$F$63,5,0)+E54+F54)/30)*K54,\"\")","v":""},null,"",null,null,""]
[null,null,null,{"$f":"IFERROR(VLOOKUP(B55,Colab!$B$14:$F$63,5,0)*C55/30,\"\")","v":""},null,null,"",{"$f":"IFERROR((D55+E55+F55+G55)*VLOOKUP((D55+E55+F55+G55),Calc!$A$2:$B$5,2,1),0)","v":0},{"$f":"IFERROR((D55+E55+F55+G55-H55-J55)*VLOOKUP((D55+E55+F55+G55-H55-J55),Calc!$D$2:$F$6,2,1)-VLOOKUP((D55+E55+F55+G55-H55-J55),Calc!$D$2:$F$6,3,1),0)","v":0},null,null,{"$f":"IFERROR(((VLOOKUP(B55,Colab!$B$14:$F$63,5,0)+E55+F55)/30)*K55,\"\")","v":""},null,"",null,null,""]
[null,null,null,{"$f":"IFERROR(VLOOKUP(B56,Colab!$B$14:$F$63,5,0)*C56/30,\"\")","v":""},null,null,"",{"$f":"IFERROR((D56+E56+F56+G56)*VLOOKUP((D56+E56+F56+G56),Calc!$A$2:$B$5,2,1),0)","v":0},{"$f":"IFERROR((D56+E56+F56+G56-H56-J56)*VLOOKUP((D56+E56+F56+G56-H56-J56),Calc!$D$2:$F$6,2,1)-VLOOKUP((D56+E56+F56+G56-H56-J56),Calc!$D$2:$F$6,3,1),0)","v":0},null,null,{"$f":"IFERROR(((VLOOKUP(B56,Colab!$B$14:$F$63,5,0)+E56+F56)/30)*K56,\"\")","v":""},null,"",null,null,""]
[null,null,null,{"$f":"IFERROR(VLOOKUP(B57,Colab!$B$14:$F$63,5,0)*C57/30,\"\")","v":""},null,null,"",{"$f":"IFERROR((D57+E57+F57+G57)*VLOOKUP((D57+E57+F57+G57),Calc!$A$2:$B$5,2,1),0)","v":0},{"$f":"IFERROR((D57+E57+F57+G57-H57-J57)*VLOOKUP((D57+E57+F57+G57-H57-J57),Calc!$D$2:$F$6,2,1)-VLOOKUP((D57+E57+F57+G57-H57-J57),Calc!$D$2:$F$6,3,1),0)","v":0},null,null,{"$f":"IFERROR(((VLOOKUP(B57,Colab!$B$14:$F$63,5,0)+E57+F57)/30)*K57,\"\")","v":""},null,"",null,null,""]
[null,null,null,{"$f":"IFERROR(VLOOKUP(B58,Colab!$B$14:$F$63,5,0)*C58/30,\"\")","v":""},null,null,"",{"$f":"IFERROR((D58+E58+F58+G58)*VLOOKUP((D58+E58+F58+G58),Calc!$A$2:$B$5,2,1),0)","v":0},{"$f":"IFERROR((D58+E58+F58+G58-H58-J58)*VLOOKUP((D58+E58+F58+G58-H58-J58),Calc!$D$2:$F$6,2,1)-VLOOKUP((D58+E58+F58+G58-H58-J58),Calc!$D$2:$F$6,3,1),0)","v":0},null,null,{"$f":"IFERROR(((VLOOKUP(B58,Colab!$B$14:$F$63,5,0)+E58+F58)/30)*K58,\"\")","v":""},null,"",null,null,""]
[null,null,null,{"$f":"IFERROR(VLOOKUP(B59,Colab!$B$14:$F$63,5,0)*C59/30,\"\")","v":""},null,null,"",{"$f":"IFERROR((D59+E59+F59+G59)*VLOOKUP((D59+E59+F59+G59),Calc!$A$2:$B$5,2,1),0)","v":0},{"$f":"IFERROR((D59+E59+F59+G59-H59-J59)*VLOOKUP((D59+E59+F59+G59-H59-J59),Calc!$D$2:$F$6,2,1)-VLOOKUP((D59+E59+F59+G59-H59-J59),Calc!$D$2:$F$6,3,1),0)","v":0},null,null,{"$f":"IFERROR(((VLOOKUP(B59,Colab!$B$14:$F$63,5,0)+E59+F59)/30)*K59,\"\")","v":""},null,"",null,null,""]
[null,null,null,{"$f":"IFERROR(VLOOKUP(B60,Colab!$B$14:$F$63,5,0)*C60/30,\"\")","v":""},null,null,"",{"$f":"IFERROR((D60+E60+F60+G60)*VLOOKUP((D60+E60+F60+G60),Calc!$A$2:$B$5,2,1),0)","v":0},{"$f":"IFERROR((D60+E60+F60+G60-H60-J60)*VLOOKUP((D60+E60+F60+G60-H60-J60),Calc!$D$2:$F$6,2,1)-VLOOKUP((D60+E60+F60+G60-H60-J60),Calc!$D$2:$F$6,3,1),0)","v":0},null,null,{"$f":"IFERROR(((VLOOKUP(B60,Colab!$B$14:$F$63,5,0)+E60+F60)/30)*K60,\"\")","v":""},null,"",null,null,""]
[null,null,null,{"$f":"IFERROR(VLOOKUP(B61,Colab!$B$14:$F$63,5,0)*C61/30,\"\")","v":""},null,null,"",{"$f":"IFERROR((D61+E61+F61+G61)*VLOOKUP((D61+E61+F61+G61),Calc!$A$2:$B$5,2,1),0)","v":0},{"$f":"IFERROR((D61+E61+F61+G61-H61-J61)*VLOOKUP((D61+E61+F61+G61-H61-J61),Calc!$D$2:$F$6,2,1)-VLOOKUP((D61+E61+F61+G61-H61-J61),Calc!$D$2:$F$6,3,1),0)","v":0},null,null,{"$f":"IFERROR(((VLOOKUP(B61,Colab!$B$14:$F$63,5,0)+E61+F61)/30)*K61,\"\")","v":""},null,"",null,null,""]
[null,null,null,{"$f":"IFERROR(VLOOKUP(B62,Colab!$B$14:$F$63,5,0)*C62/30,\"\")","v":""},null,null,"",{"$f":"IFERROR((D62+E62+F62+G62)*VLOOKUP((D62+E62+F62+G62),Calc!$A$2:$B$5,2,1),0)","v":0},{"$f":"IFERROR((D62+E62+F62+G62-H62-J62)*VLOOKUP((D62+E62+F62+G62-H62-J62),Calc!$D$2:$F$6,2,1)-VLOOKUP((D62+E62+F62+G62-H62-J62),Calc!$D$2:$F$6,3,1),0)","v":0},null,null,{"$f":"IFERROR(((VLOOKUP(B62,Colab!$B$14:$F$63,5,0)+E62+F62)/30)*K62,\"\")","v":""},null,"",null,null,""]
[null,null,null,{"$f":"IFERROR(VLOOKUP(B63,Colab!$B$14:$F$63,5,0)*C63/30,\"\")","v":""},null,null,"",{"$f":"IFERROR((D63+E63+F63+G63)*VLOOKUP((D63+E63+F63+G63),Calc!$A$2:$B$5,2,1),0)","v":0},{"$f":"IFERROR((D63+E63+F63+G63-H63-J63)*VLOOKUP((D63+E63+F63+G63-H63-J63),Calc!$D$2:$F$6,2,1)-VLOOKUP((D63+E63+F63+G63-H63-J63),Calc!$D$2:$F$6,3,1),0)","v":0},null,null,{"$f":"IFERROR(((VLOOKUP(B63,Colab!$B$14:$F$63,5,0)+E63+F63)/30)*K63,\"\")","v":""},null,"",null,null,""]

{"sheet":"Projeção","index":3,"n_rows":65,"n_cols":26,"rows_kept":65,"cut":false,"hidden":false,"merged":[[9,2,9,6],[11,1,11,12]]}
[]
[]
[]
[]
[]
[]
[]
[]
[]
[null,"Empresa:",{"$f":"Menu!G26","v":"Empresa ABCDE"}]
[]
[null,"PROJEÇÃO DE FÉRIAS\nInsira programação de férias de seus colaboradores para visualizar a projeção financeira na tela de Relatórios."]
[null,"Janeiro","Fevereiro","Março","Abril","Maio","Junho","Julho","Agosto","Setembro","Outubro","Novembro","Dezembro",null,"Janeiro","Fevereiro","Março","Abril","Maio","Junho","Julho","Agosto","Setembro","Outubro","Novembro","Dezembro"]
[null,"José da Silva",null,null,null,null,"João Alves",null,null,null,{"$f":"IFERROR(AVERAGEIF(C14:H14,\">0\"),\"\")","v":""},null,null,null,{"$f":"SUMIF(Calculos!$B$14:$B$63,Projeção!B14,Calculos!$N$14:$N$63)","v":2444.4444444444443},{"$f":"SUMIF(Calculos!$B$14:$B$63,Projeção!C14,Calculos!$N$14:$N$63)","v":0},{"$f":"SUMIF(Calculos!$B$14:$B$63,Projeção!D14,Calculos!$N$14:$N$63)","v":0},{"$f":"SUMIF(Calculos!$B$14:$B$63,Projeção!E14,Calculos!$N$14:$N$63)","v":0},{"$f":"SUMIF(Calculos!$B$14:$B$63,Projeção!F14,Calculos!$N$14:$N$63)","v":0},{"$f":"SUMIF(Calculos!$B$14:$B$63,Projeção!G14,Calculos!$N$14:$N$63)","v":0},{"$f":"SUMIF(Calculos!$B$14:$B$63,Projeção!H14,Calculos!$N$14:$N$63)","v":0},{"$f":"SUMIF(Calculos!$B$14:$B$63,Projeção!I14,Calculos!$N$14:$N$63)","v":0},{"$f":"SUMIF(Calculos!$B$14:$B$63,Projeção!J14,Calculos!$N$14:$N$63)","v":0},{"$f":"SUMIF(Calculos!$B$14:$B$63,Projeção!K14,Calculos!$N$14:$N$63)","v":0},{"$f":"SUMIF(Calculos!$B$14:$B$63,Projeção!L14,Calculos!$N$14:$N$63)","v":0},{"$f":"SUMIF(Calculos!$B$14:$B$63,Projeção!M14,Calculos!$N$14:$N$63)","v":0}]
[null,"Paulo Vitor",null,null,null,null,"Paulo Vitor",null,null,null,{"$f":"IFERROR(AVERAGEIF(C15:H15,\">0\"),\"\")","v":""},null,null,null,{"$f":"SUMIF(Calculos!$B$14:$B$63,Projeção!B15,Calculos!$N$14:$N$63)","v":0},{"$f":"SUMIF(Calculos!$B$14:$B$63,Projeção!C15,Calculos!$N$14:$N$63)","v":0},{"$f":"SUMIF(Calculos!$B$14:$B$63,Projeção!D15,Calculos!$N$14:$N$63)","v":0},{"$f":"SUMIF(Calculos!$B$14:$B$63,Projeção!E15,Calculos!$N$14:$N$63)","v":0},{"$f":"SUMIF(Calculos!$B$14:$B$63,Projeção!F15,Calculos!$N$14:$N$63)","v":0},{"$f":"SUMIF(Calculos!$B$14:$B$63,Projeção!G15,Calculos!$N$14:$N$63)","v":0},{"$f":"SUMIF(Calculos!$B$14:$B$63,Projeção!H15,Calculos!$N$14:$N$63)","v":0},{"$f":"SUMIF(Calculos!$B$14:$B$63,Projeção!I15,Calculos!$N$14:$N$63)","v":0},{"$f":"SUMIF(Calculos!$B$14:$B$63,Projeção!J15,Calculos!$N$14:$N$63)","v":0},{"$f":"SUMIF(Calculos!$B$14:$B$63,Projeção!K15,Calculos!$N$14:$N$63)","v":0},{"$f":"SUMIF(Calculos!$B$14:$B$63,Projeção!L15,Calculos!$N$14:$N$63)","v":0},{"$f":"SUMIF(Calculos!$B$14:$B$63,Projeção!M15,Calculos!$N$14:$N$63)","v":0}]
[null,null,null,null,null,null,null,null,null,null,"",null,null,null,{"$f":"SUMIF(Calculos!$B$14:$B$63,Projeção!B16,Calculos!$N$14:$N$63)","v":0},{"$f":"SUMIF(Calculos!$B$14:$B$63,Projeção!C16,Calculos!$N$14:$N$63)","v":0},{"$f":"SUMIF(Calculos!$B$14:$B$63,Projeção!D16,Calculos!$N$14:$N$63)","v":0},{"$f":"SUMIF(Calculos!$B$14:$B$63,Projeção!E16,Calculos!$N$14:$N$63)","v":0},{"$f":"SUMIF(Calculos!$B$14:$B$63,Projeção!F16,Calculos!$N$14:$N$63)","v":0},{"$f":"SUMIF(Calculos!$B$14:$B$63,Projeção!G16,Calculos!$N$14:$N$63)","v":0},{"$f":"SUMIF(Calculos!$B$14:$B$63,Projeção!H16,Calculos!$N$14:$N$63)","v":0},{"$f":"SUMIF(Calculos!$B$14:$B$63,Projeção!I16,Calculos!$N$14:$N$63)","v":0},{"$f":"SUMIF(Calculos!$B$14:$B$63,Projeção!J16,Calculos!$N$14:$N$63)","v":0},{"$f":"SUMIF(Calculos!$B$14:$B$63,Projeção!K16,Calculos!$N$14:$N$63)","v":0},{"$f":"SUMIF(Calculos!$B$14:$B$63,Projeção!L16,Calculos!$N$14:$N$63)","v":0},{"$f":"SUMIF(Calculos!$B$14:$B$63,Projeção!M16,Calculos!$N$14:$N$63)","v":0}]
[null,null,null,null,null,null,null,null,null,null,"",null,null,null,{"$f":"SUMIF(Calculos!$B$14:$B$63,Projeção!B17,Calculos!$N$14:$N$63)","v":0},{"$f":"SUMIF(Calculos!$B$14:$B$63,Projeção!C17,Calculos!$N$14:$N$63)","v":0},{"$f":"SUMIF(Calculos!$B$14:$B$63,Projeção!D17,Calculos!$N$14:$N$63)","v":0},{"$f":"SUMIF(Calculos!$B$14:$B$63,Projeção!E17,Calculos!$N$14:$N$63)","v":0},{"$f":"SUMIF(Calculos!$B$14:$B$63,Projeção!F17,Calculos!$N$14:$N$63)","v":0},{"$f":"SUMIF(Calculos!$B$14:$B$63,Projeção!G17,Calculos!$N$14:$N$63)","v":0},{"$f":"SUMIF(Calculos!$B$14:$B$63,Projeção!H17,Calculos!$N$14:$N$63)","v":0},{"$f":"SUMIF(Calculos!$B$14:$B$63,Projeção!I17,Calculos!$N$14:$N$63)","v":0},{"$f":"SUMIF(Calculos!$B$14:$B$63,Projeção!J17,Calculos!$N$14:$N$63)","v":0},{"$f":"SUMIF(Calculos!$B$14:$B$63,Projeção!K17,Calculos!$N$14:$N$63)","v":0},{"$f":"SUMIF(Calculos!$B$14:$B$63,Projeção!L17,Calculos!$N$14:$N$63)","v":0},{"$f":"SUMIF(Calculos!$B$14:$B$63,Projeção!M17,Calculos!$N$14:$N$63)","v":0}]
[null,null,null,null,null,null,null,null,null,null,"",null,null,null,{"$f":"SUMIF(Calculos!$B$14:$B$63,Projeção!B18,Calculos!$N$14:$N$63)","v":0},{"$f":"SUMIF(Calculos!$B$14:$B$63,Projeção!C18,Calculos!$N$14:$N$63)","v":0},{"$f":"SUMIF(Calculos!$B$14:$B$63,Projeção!D18,Calculos!$N$14:$N$63)","v":0},{"$f":"SUMIF(Calculos!$B$14:$B$63,Projeção!E18,Calculos!$N$14:$N$63)","v":0},{"$f":"SUMIF(Calculos!$B$14:$B$63,Projeção!F18,Calculos!$N$14:$N$63)","v":0},{"$f":"SUMIF(Calculos!$B$14:$B$63,Projeção!G18,Calculos!$N$14:$N$63)","v":0},{"$f":"SUMIF(Calculos!$B$14:$B$63,Projeção!H18,Calculos!$N$14:$N$63)","v":0},{"$f":"SUMIF(Calculos!$B$14:$B$63,Projeção!I18,Calculos!$N$14:$N$63)","v":0},{"$f":"SUMIF(Calculos!$B$14:$B$63,Projeção!J18,Calculos!$N$14:$N$63)","v":0},{"$f":"SUMIF(Calculos!$B$14:$B$63,Projeção!K18,Calculos!$N$14:$N$63)","v":0},{"$f":"SUMIF(Calculos!$B$14:$B$63,Projeção!L18,Calculos!$N$14:$N$63)","v":0},{"$f":"SUMIF(Calculos!$B$14:$B$63,Projeção!M18,Calculos!$N$14:$N$63)","v":0}]
[null,null,null,null,null,null,null,null,null,null,"",null,null,null,{"$f":"SUMIF(Calculos!$B$14:$B$63,Projeção!B19,Calculos!$N$14:$N$63)","v":0},{"$f":"SUMIF(Calculos!$B$14:$B$63,Projeção!C19,Calculos!$N$14:$N$63)","v":0},{"$f":"SUMIF(Calculos!$B$14:$B$63,Projeção!D19,Calculos!$N$14:$N$63)","v":0},{"$f":"SUMIF(Calculos!$B$14:$B$63,Projeção!E19,Calculos!$N$14:$N$63)","v":0},{"$f":"SUMIF(Calculos!$B$14:$B$63,Projeção!F19,Calculos!$N$14:$N$63)","v":0},{"$f":"SUMIF(Calculos!$B$14:$B$63,Projeção!G19,Calculos!$N$14:$N$63)","v":0},{"$f":"SUMIF(Calculos!$B$14:$B$63,Projeção!H19,Calculos!$N$14:$N$63)","v":0},{"$f":"SUMIF(Calculos!$B$14:$B$63,Projeção!I19,Calculos!$N$14:$N$63)","v":0},{"$f":"SUMIF(Calculos!$B$14:$B$63,Projeção!J19,Calculos!$N$14:$N$63)","v":0},{"$f":"SUMIF(Calculos!$B$14:$B$63,Projeção!K19,Calculos!$N$14:$N$63)","v":0},{"$f":"SUMIF(Calculos!$B$14:$B$63,Projeção!L19,Calculos!$N$14:$N$63)","v":0},{"$f":"SUMIF(Calculos!$B$14:$B$63,Projeção!M19,Calculos!$N$14:$N$63)","v":0}]
[null,null,null,null,null,null,null,null,null,null,"",null,null,null,{"$f":"SUMIF(Calculos!$B$14:$B$63,Projeção!B20,Calculos!$N$14:$N$63)","v":0},{"$f":"SUMIF(Calculos!$B$14:$B$63,Projeção!C20,Calculos!$N$14:$N$63)","v":0},{"$f":"SUMIF(Calculos!$B$14:$B$63,Projeção!D20,Calculos!$N$14:$N$63)","v":0},{"$f":"SUMIF(Calculos!$B$14:$B$63,Projeção!E20,Calculos!$N$14:$N$63)","v":0},{"$f":"SUMIF(Calculos!$B$14:$B$63,Projeção!F20,Calculos!$N$14:$N$63)","v":0},{"$f":"SUMIF(Calculos!$B$14:$B$63,Projeção!G20,Calculos!$N$14:$N$63)","v":0},{"$f":"SUMIF(Calculos!$B$14:$B$63,Projeção!H20,Calculos!$N$14:$N$63)","v":0},{"$f":"SUMIF(Calculos!$B$14:$B$63,Projeção!I20,Calculos!$N$14:$N$63)","v":0},{"$f":"SUMIF(Calculos!$B$14:$B$63,Projeção!J20,Calculos!$N$14:$N$63)","v":0},{"$f":"SUMIF(Calculos!$B$14:$B$63,Projeção!K20,Calculos!$N$14:$N$63)","v":0},{"$f":"SUMIF(Calculos!$B$14:$B$63,Projeção!L20,Calculos!$N$14:$N$63)","v":0},{"$f":"SUMIF(Calculos!$B$14:$B$63,Projeção!M20,Calculos!$N$14:$N$63)","v":0}]
[null,null,null,null,null,null,null,null,null,null,"",null,null,null,{"$f":"SUMIF(Calculos!$B$14:$B$63,Projeção!B21,Calculos!$N$14:$N$63)","v":0},{"$f":"SUMIF(Calculos!$B$14:$B$63,Projeção!C21,Calculos!$N$14:$N$63)","v":0},{"$f":"SUMIF(Calculos!$B$14:$B$63,Projeção!D21,Calculos!$N$14:$N$63)","v":0},{"$f":"SUMIF(Calculos!$B$14:$B$63,Projeção!E21,Calculos!$N$14:$N$63)","v":0},{"$f":"SUMIF(Calculos!$B$14:$B$63,Projeção!F21,Calculos!$N$14:$N$63)","v":0},{"$f":"SUMIF(Calculos!$B$14:$B$63,Projeção!G21,Calculos!$N$14:$N$63)","v":0},{"$f":"SUMIF(Calculos!$B$14:$B$63,Projeção!H21,Calculos!$N$14:$N$63)","v":0},{"$f":"SUMIF(Calculos!$B$14:$B$63,Projeção!I21,Calculos!$N$14:$N$63)","v":0},{"$f":"SUMIF(Calculos!$B$14:$B$63,Projeção!J21,Calculos!$N$14:$N$63)","v":0},{"$f":"SUMIF(Calculos!$B$14:$B$63,Projeção!K21,Calculos!$N$14:$N$63)","v":0},{"$f":"SUMIF(Calculos!$B$14:$B$63,Projeção!L21,Calculos!$N$14:$N$63)","v":0},{"$f":"SUMIF(Calculos!$B$14:$B$63,Projeção!M21,Calculos!$N$14:$N$63)","v":0}]
[null,null,null,null,null,null,null,null,null,null,"",null,null,null,{"$f":"SUMIF(Calculos!$B$14:$B$63,Projeção!B22,Calculos!$N$14:$N$63)","v":0},{"$f":"SUMIF(Calculos!$B$14:$B$63,Projeção!C22,Calculos!$N$14:$N$63)","v":0},{"$f":"SUMIF(Calculos!$B$14:$B$63,Projeção!D22,Calculos!$N$14:$N$63)","v":0},{"$f":"SUMIF(Calculos!$B$14:$B$63,Projeção!E22,Calculos!$N$14:$N$63)","v":0},{"$f":"SUMIF(Calculos!$B$14:$B$63,Projeção!F22,Calculos!$N$14:$N$63)","v":0},{"$f":"SUMIF(Calculos!$B$14:$B$63,Projeção!G22,Calculos!$N$14:$N$63)","v":0},{"$f":"SUMIF(Calculos!$B$14:$B$63,Projeção!H22,Calculos!$N$14:$N$63)","v":0},{"$f":"SUMIF(Calculos!$B$14:$B$63,Projeção!I22,Calculos!$N$14:$N$63)","v":0},{"$f":"SUMIF(Calculos!$B$14:$B$63,Projeção!J22,Calculos!$N$14:$N$63)","v":0},{"$f":"SUMIF(Calculos!$B$14:$B$63,Projeção!K22,Calculos!$N$14:$N$63)","v":0},{"$f":"SUMIF(Calculos!$B$14:$B$63,Projeção!L22,Calculos!$N$14:$N$63)","v":0},{"$f":"SUMIF(Calculos!$B$14:$B$63,Projeção!M22,Calculos!$N$14:$N$63)","v":0}]
[null,null,null,null,null,null,null,null,null,null,"",null,null,null,{"$f":"SUMIF(Calculos!$B$14:$B$63,Projeção!B23,Calculos!$N$14:$N$63)","v":0},{"$f":"SUMIF(Calculos!$B$14:$B$63,Projeção!C23,Calculos!$N$14:$N$63)","v":0},{"$f":"SUMIF(Calculos!$B$14:$B$63,Projeção!D23,Calculos!$N$14:$N$63)","v":0},{"$f":"SUMIF(Calculos!$B$14:$B$63,Projeção!E23,Calculos!$N$14:$N$63)","v":0},{"$f":"SUMIF(Calculos!$B$14:$B$63,Projeção!F23,Calculos!$N$14:$N$63)","v":0},{"$f":"SUMIF(Calculos!$B$14:$B$63,Projeção!G23,Calculos!$N$14:$N$63)","v":0},{"$f":"SUMIF(Calculos!$B$14:$B$63,Projeção!H23,Calculos!$N$14:$N$63)","v":0},{"$f":"SUMIF(Calculos!$B$14:$B$63,Projeção!I23,Calculos!$N$14:$N$63)","v":0},{"$f":"SUMIF(Calculos!$B$14:$B$63,Projeção!J23,Calculos!$N$14:$N$63)","v":0},{"$f":"SUMIF(Calculos!$B$14:$B$63,Projeção!K23,Calculos!$N$14:$N$63)","v":0},{"$f":"SUMIF(Calculos!$B$14:$B$63,Projeção!L23,Calculos!$N$14:$N$63)","v":0},{"$f":"SUMIF(Calculos!$B$14:$B$63,Projeção!M23,Calculos!$N$14:$N$63)","v":0}]
[null,null,null,null,null,null,null,null,null,null,"",null,null,null,{"$f":"SUMIF(Calculos!$B$14:$B$63,Projeção!B24,Calculos!$N$14:$N$63)","v":0},{"$f":"SUMIF(Calculos!$B$14:$B$63,Projeção!C24,Calculos!$N$14:$N$63)","v":0},{"$f":"SUMIF(Calculos!$B$14:$B$63,Projeção!D24,Calculos!$N$14:$N$63)","v":0},{"$f":"SUMIF(Calculos!$B$14:$B$63,Projeção!E24,Calculos!$N$14:$N$63)","v":0},{"$f":"SUMIF(Calculos!$B$14:$B$63,Projeção!F24,Calculos!$N$14:$N$63)","v":0},{"$f":"SUMIF(Calculos!$B$14:$B$63,Projeção!G24,Calculos!$N$14:$N$63)","v":0},{"$f":"SUMIF(Calculos!$B$14:$B$63,Projeção!H24,Calculos!$N$14:$N$63)","v":0},{"$f":"SUMIF(Calculos!$B$14:$B$63,Projeção!I24,Calculos!$N$14:$N$63)","v":0},{"$f":"SUMIF(Calculos!$B$14:$B$63,Projeção!J24,Calculos!$N$14:$N$63)","v":0},{"$f":"SUMIF(Calculos!$B$14:$B$63,Projeção!K24,Calculos!$N$14:$N$63)","v":0},{"$f":"SUMIF(Calculos!$B$14:$B$63,Projeção!L24,Calculos!$N$14:$N$63)","v":0},{"$f":"SUMIF(Calculos!$B$14:$B$63,Projeção!M24,Calculos!$N$14:$N$63)","v":0}]
[null,null,null,null,null,null,null,null,null,null,"",null,null,null,{"$f":"SUMIF(Calculos!$B$14:$B$63,Projeção!B25,Calculos!$N$14:$N$63)","v":0},{"$f":"SUMIF(Calculos!$B$14:$B$63,Projeção!C25,Calculos!$N$14:$N$63)","v":0},{"$f":"SUMIF(Calculos!$B$14:$B$63,Projeção!D25,Calculos!$N$14:$N$63)","v":0},{"$f":"SUMIF(Calculos!$B$14:$B$63,Projeção!E25,Calculos!$N$14:$N$63)","v":0},{"$f":"SUMIF(Calculos!$B$14:$B$63,Projeção!F25,Calculos!$N$14:$N$63)","v":0},{"$f":"SUMIF(Calculos!$B$14:$B$63,Projeção!G25,Calculos!$N$14:$N$63)","v":0},{"$f":"SUMIF(Calculos!$B$14:$B$63,Projeção!H25,Calculos!$N$14:$N$63)","v":0},{"$f":"SUMIF(Calculos!$B$14:$B$63,Projeção!I25,Calculos!$N$14:$N$63)","v":0},{"$f":"SUMIF(Calculos!$B$14:$B$63,Projeção!J25,Calculos!$N$14:$N$63)","v":0},{"$f":"SUMIF(Calculos!$B$14:$B$63,Projeção!K25,Calculos!$N$14:$N$63)","v":0},{"$f":"SUMIF(Calculos!$B$14:$B$63,Projeção!L25,Calculos!$N$14:$N$63)","v":0},{"$f":"SUMIF(Calculos!$B$14:$B$63,Projeção!M25,Calculos!$N$14:$N$63)","v":0}]
[null,null,null,null,null,null,null,null,null,null,"",null,null,null,{"$f":"SUMIF(Calculos!$B$14:$B$63,Projeção!B26,Calculos!$N$14:$N$63)","v":0},{"$f":"SUMIF(Calculos!$B$14:$B$63,Projeção!C26,Calculos!$N$14:$N$63)","v":0},{"$f":"SUMIF(Calculos!$B$14:$B$63,Projeção!D26,Calculos!$N$14:$N$63)","v":0},{"$f":"SUMIF(Calculos!$B$14:$B$63,Projeção!E26,Calculos!$N$14:$N$63)","v":0},{"$f":"SUMIF(Calculos!$B$14:$B$63,Projeção!F26,Calculos!$N$14:$N$63)","v":0},{"$f":"SUMIF(Calculos!$B$14:$B$63,Projeção!G26,Calculos!$N$14:$N$63)","v":0},{"$f":"SUMIF(Calculos!$B$14:$B$63,Projeção!H26,Calculos!$N$14:$N$63)","v":0},{"$f":"SUMIF(Calculos!$B$14:$B$63,Projeção!I26,Calculos!$N$14:$N$63)","v":0},{"$f":"SUMIF(Calculos!$B$14:$B$63,Projeção!J26,Calculos!$N$14:$N$63)","v":0},{"$f":"SUMIF(Calculos!$B$14:$B$63,Projeção!K26,Calculos!$N$14:$N$63)","v":0},{"$f":"SUMIF(Calculos!$B$14:$B$63,Projeção!L26,Calculos!$N$14:$N$63)","v":0},{"$f":"SUMIF(Calculos!$B$14:$B$63,Projeção!M26,Calculos!$N$14:$N$63)","v":0}]
[null,null,null,null,null,null,null,null,null,null,"",null,null,null,{"$f":"SUMIF(Calculos!$B$14:$B$63,Projeção!B27,Calculos!$N$14:$N$63)","v":0},{"$f":"SUMIF(Calculos!$B$14:$B$63,Projeção!C27,Calculos!$N$14:$N$63)","v":0},{"$f":"SUMIF(Calculos!$B$14:$B$63,Projeção!D27,Calculos!$N$14:$N$63)","v":0},{"$f":"SUMIF(Calculos!$B$14:$B$63,Projeção!E27,Calculos!$N$14:$N$63)","v":0},{"$f":"SUMIF(Calculos!$B$14:$B$63,Projeção!F27,Calculos!$N$14:$N$63)","v":0},{"$f":"SUMIF(Calculos!$B$14:$B$63,Projeção!G27,Calculos!$N$14:$N$63)","v":0},{"$f":"SUMIF(Calculos!$B$14:$B$63,Projeção!H27,Calculos!$N$14:$N$63)","v":0},{"$f":"SUMIF(Calculos!$B$14:$B$63,Projeção!I27,Calculos!$N$14:$N$63)","v":0},{"$f":"SUMIF(Calculos!$B$14:$B$63,Projeção!J27,Calculos!$N$14:$N$63)","v":0},{"$f":"SUMIF(Calculos!$B$14:$B$63,Projeção!K27,Calculos!$N$14:$N$63)","v":0},{"$f":"SUMIF(Calculos!$B$14:$B$63,Projeção!L27,Calculos!$N$14:$N$63)","v":0},{"$f":"SUMIF(Calculos!$B$14:$B$63,Projeção!M27,Calculos!$N$14:$N$63)","v":0}]
[null,null,null,null,null,null,null,null,null,null,"",null,null,null,{"$f":"SUMIF(Calculos!$B$14:$B$63,Projeção!B28,Calculos!$N$14:$N$63)","v":0},{"$f":"SUMIF(Calculos!$B$14:$B$63,Projeção!C28,Calculos!$N$14:$N$63)","v":0},{"$f":"SUMIF(Calculos!$B$14:$B$63,Projeção!D28,Calculos!$N$14:$N$63)","v":0},{"$f":"SUMIF(Calculos!$B$14:$B$63,Projeção!E28,Calculos!$N$14:$N$63)","v":0},{"$f":"SUMIF(Calculos!$B$14:$B$63,Projeção!F28,Calculos!$N$14:$N$63)","v":0},{"$f":"SUMIF(Calculos!$B$14:$B$63,Projeção!G28,Calculos!$N$14:$N$63)","v":0},{"$f":"SUMIF(Calculos!$B$14:$B$63,Projeção!H28,Calculos!$N$14:$N$63)","v":0},{"$f":"SUMIF(Calculos!$B$14:$B$63,Projeção!I28,Calculos!$N$14:$N$63)","v":0},{"$f":"SUMIF(Calculos!$B$14:$B$63,Projeção!J28,Calculos!$N$14:$N$63)","v":0},{"$f":"SUMIF(Calculos!$B$14:$B$63,Projeção!K28,Calculos!$N$14:$N$63)","v":0},{"$f":"SUMIF(Calculos!$B$14:$B$63,Projeção!L28,Calculos!$N$14:$N$63)","v":0},{"$f":"SUMIF(Calculos!$B$14:$B$63,Projeção!M28,Calculos!$N$14:$N$63)","v":0}]
[null,null,null,null,null,null,null,null,null,null,"",null,null,null,{"$f":"SUMIF(Calculos!$B$14:$B$63,Projeção!B29,Calculos!$N$14:$N$63)","v":0},{"$f":"SUMIF(Calculos!$B$14:$B$63,Projeção!C29,Calculos!$N$14:$N$63)","v":0},{"$f":"SUMIF(Calculos!$B$14:$B$63,Projeção!D29,Calculos!$N$14:$N$63)","v":0},{"$f":"SUMIF(Calculos!$B$14:$B$63,Projeção!E29,Calculos!$N$14:$N$63)","v":0},{"$f":"SUMIF(Calculos!$B$14:$B$63,Projeção!F29,Calculos!$N$14:$N$63)","v":0},{"$f":"SUMIF(Calculos!$B$14:$B$63,Projeção!G29,Calculos!$N$14:$N$63)","v":0},{"$f":"SUMIF(Calculos!$B$14:$B$63,Projeção!H29,Calculos!$N$14:$N$63)","v":0},{"$f":"SUMIF(Calculos!$B$14:$B$63,Projeção!I29,Calculos!$N$14:$N$63)","v":0},{"$f":"SUMIF(Calculos!$B$14:$B$63,Projeção!J29,Calculos!$N$14:$N$63)","v":0},{"$f":"SUMIF(Calculos!$B$14:$B$63,Projeção!K29,Calculos!$N$14:$N$63)","v":0},{"$f":"SUMIF(Calculos!$B$14:$B$63,Projeção!L29,Calculos!$N$14:$N$63)","v":0},{"$f":"SUMIF(Calculos!$B$14:$B$63,Projeção!M29,Calculos!$N$14:$N$63)","v":0}]
[null,null,null,null,null,null,null,null,null,null,"",null,null,null,{"$f":"SUMIF(Calculos!$B$14:$B$63,Projeção!B30,Calculos!$N$14:$N$63)","v":0},{"$f":"SUMIF(Calculos!$B$14:$B$63,Projeção!C30,Calculos!$N$14:$N$63)","v":0},{"$f":"SUMIF(Calculos!$B$14:$B$63,Projeção!D30,Calculos!$N$14:$N$63)","v":0},{"$f":"SUMIF(Calculos!$B$14:$B$63,Projeção!E30,Calculos!$N$14:$N$63)","v":0},{"$f":"SUMIF(Calculos!$B$14:$B$63,Projeção!F30,Calculos!$N$14:$N$63)","v":0},{"$f":"SUMIF(Calculos!$B$14:$B$63,Projeção!G30,Calculos!$N$14:$N$63)","v":0},{"$f":"SUMIF(Calculos!$B$14:$B$63,Projeção!H30,Calculos!$N$14:$N$63)","v":0},{"$f":"SUMIF(Calculos!$B$14:$B$63,Projeção!I30,Calculos!$N$14:$N$63)","v":0},{"$f":"SUMIF(Calculos!$B$14:$B$63,Projeção!J30,Calculos!$N$14:$N$63)","v":0},{"$f":"SUMIF(Calculos!$B$14:$B$63,Projeção!K30,Calculos!$N$14:$N$63)","v":0},{"$f":"SUMIF(Calculos!$B$14:$B$63,Projeção!L30,Calculos!$N$14:$N$63)","v":0},{"$f":"SUMIF(Calculos!$B$14:$B$63,Projeção!M30,Calculos!$N$14:$N$63)","v":0}]
[null,null,null,null,null,null,null,null,null,null,"",null,null,null,{"$f":"SUMIF(Calculos!$B$14:$B$63,Projeção!B31,Calculos!$N$14:$N$63)","v":0},{"$f":"SUMIF(Calculos!$B$14:$B$63,Projeção!C31,Calculos!$N$14:$N$63)","v":0},{"$f":"SUMIF(Calculos!$B$14:$B$63,Projeção!D31,Calculos!$N$14:$N$63)","v":0},{"$f":"SUMIF(Calculos!$B$14:$B$63,Projeção!E31,Calculos!$N$14:$N$63)","v":0},{"$f":"SUMIF(Calculos!$B$14:$B$63,Projeção!F31,Calculos!$N$14:$N$63)","v":0},{"$f":"SUMIF(Calculos!$B$14:$B$63,Projeção!G31,Calculos!$N$14:$N$63)","v":0},{"$f":"SUMIF(Calculos!$B$14:$B$63,Projeção!H31,Calculos!$N$14:$N$63)","v":0},{"$f":"SUMIF(Calculos!$B$14:$B$63,Projeção!I31,Calculos!$N$14:$N$63)","v":0},{"$f":"SUMIF(Calculos!$B$14:$B$63,Projeção!J31,Calculos!$N$14:$N$63)","v":0},{"$f":"SUMIF(Calculos!$B$14:$B$63,Projeção!K31,Calculos!$N$14:$N$63)","v":0},{"$f":"SUMIF(Calculos!$B$14:$B$63,Projeção!L31,Calculos!$N$14:$N$63)","v":0},{"$f":"SUMIF(Calculos!$B$14:$B$63,Projeção!M31,Calculos!$N$14:$N$63)","v":0}]
[null,null,null,null,null,null,null,null,null,null,"",null,null,null,{"$f":"SUMIF(Calculos!$B$14:$B$63,Projeção!B32,Calculos!$N$14:$N$63)","v":0},{"$f":"SUMIF(Calculos!$B$14:$B$63,Projeção!C32,Calculos!$N$14:$N$63)","v":0},{"$f":"SUMIF(Calculos!$B$14:$B$63,Projeção!D32,Calculos!$N$14:$N$63)","v":0},{"$f":"SUMIF(Calculos!$B$14:$B$63,Projeção!E32,Calculos!$N$14:$N$63)","v":0},{"$f":"SUMIF(Calculos!$B$14:$B$63,Projeção!F32,Calculos!$N$14:$N$63)","v":0},{"$f":"SUMIF(Calculos!$B$14:$B$63,Projeção!G32,Calculos!$N$14:$N$63)","v":0},{"$f":"SUMIF(Calculos!$B$14:$B$63,Projeção!H32,Calculos!$N$14:$N$63)","v":0},{"$f":"SUMIF(Calculos!$B$14:$B$63,Projeção!I32,Calculos!$N$14:$N$63)","v":0},{"$f":"SUMIF(Calculos!$B$14:$B$63,Projeção!J32,Calculos!$N$14:$N$63)","v":0},{"$f":"SUMIF(Calculos!$B$14:$B$63,Projeção!K32,Calculos!$N$14:$N$63)","v":0},{"$f":"SUMIF(Calculos!$B$14:$B$63,Projeção!L32,Calculos!$N$14:$N$63)","v":0},{"$f":"SUMIF(Calculos!$B$14:$B$63,Projeção!M32,Calculos!$N$14:$N$63)","v":0}]
[null,null,null,null,null,null,null,null,null,null,"",null,null,null,{"$f":"SUMIF(Calculos!$B$14:$B$63,Projeção!B33,Calculos!$N$14:$N$63)","v":0},{"$f":"SUMIF(Calculos!$B$14:$B$63,Projeção!C33,Calculos!$N$14:$N$63)","v":0},{"$f":"SUMIF(Calculos!$B$14:$B$63,Projeção!D33,Calculos!$N$14:$N$63)","v":0},{"$f":"SUMIF(Calculos!$B$14:$B$63,Projeção!E33,Calculos!$N$14:$N$63)","v":0},{"$f":"SUMIF(Calculos!$B$14:$B$63,Projeção!F33,Calculos!$N$14:$N$63)","v":0},{"$f":"SUMIF(Calculos!$B$14:$B$63,Projeção!G33,Calculos!$N$14:$N$63)","v":0},{"$f":"SUMIF(Calculos!$B$14:$B$63,Projeção!H33,Calculos!$N$14:$N$63)","v":0},{"$f":"SUMIF(Calculos!$B$14:$B$63,Projeção!I33,Calculos!$N$14:$N$63)","v":0},{"$f":"SUMIF(Calculos!$B$14:$B$63,Projeção!J33,Calculos!$N$14:$N$63)","v":0},{"$f":"SUMIF(Calculos!$B$14:$B$63,Projeção!K33,Calculos!$N$14:$N$63)","v":0},{"$f":"SUMIF(Calculos!$B$14:$B$63,Projeção!L33,Calculos!$N$14:$N$63)","v":0},{"$f":"SUMIF(Calculos!$B$14:$B$63,Projeção!M33,Calculos!$N$14:$N$63)","v":0}]
[null,null,null,null,null,null,null,null,null,null,"",null,null,null,{"$f":"SUMIF(Calculos!$B$14:$B$63,Projeção!B34,Calculos!$N$14:$N$63)","v":0},{"$f":"SUMIF(Calculos!$B$14:$B$63,Projeção!C34,Calculos!$N$14:$N$63)","v":0},{"$f":"SUMIF(Calculos!$B$14:$B$63,Projeção!D34,Calculos!$N$14:$N$63)","v":0},{"$f":"SUMIF(Calculos!$B$14:$B$63,Projeção!E34,Calculos!$N$14:$N$63)","v":0},{"$f":"SUMIF(Calculos!$B$14:$B$63,Projeção!F34,Calculos!$N$14:$N$63)","v":0},{"$f":"SUMIF(Calculos!$B$14:$B$63,Projeção!G34,Calculos!$N$14:$N$63)","v":0},{"$f":"SUMIF(Calculos!$B$14:$B$63,Projeção!H34,Calculos!$N$14:$N$63)","v":0},{"$f":"SUMIF(Calculos!$B$14:$B$63,Projeção!I34,Calculos!$N$14:$N$63)","v":0},{"$f":"SUMIF(Calculos!$B$14:$B$63,Projeção!J34,Calculos!$N$14:$N$63)","v":0},{"$f":"SUMIF(Calculos!$B$14:$B$63,Projeção!K34,Calculos!$N$14:$N$63)","v":0},{"$f":"SUMIF(Calculos!$B$14:$B$63,Projeção!L34,Calculos!$N$14:$N$63)","v":0},{"$f":"SUMIF(Calculos!$B$14:$B$63,Projeção!M34,Calculos!$N$14:$N$63)","v":0}]
[null,null,null,null,null,null,null,null,null,null,"",null,null,null,{"$f":"SUMIF(Calculos!$B$14:$B$63,Projeção!B35,Calculos!$N$14:$N$63)","v":0},{"$f":"SUMIF(Calculos!$B$14:$B$63,Projeção!C35,Calculos!$N$14:$N$63)","v":0},{"$f":"SUMIF(Calculos!$B$14:$B$63,Projeção!D35,Calculos!$N$14:$N$63)","v":0},{"$f":"SUMIF(Calculos!$B$14:$B$63,Projeção!E35,Calculos!$N$14:$N$63)","v":0},{"$f":"SUMIF(Calculos!$B$14:$B$63,Projeção!F35,Calculos!$N$14:$N$63)","v":0},{"$f":"SUMIF(Calculos!$B$14:$B$63,Projeção!G35,Calculos!$N$14:$N$63)","v":0},{"$f":"SUMIF(Calculos!$B$14:$B$63,Projeção!H35,Calculos!$N$14:$N$63)","v":0},{"$f":"SUMIF(Calculos!$B$14:$B$63,Projeção!I35,Calculos!$N$14:$N$63)","v":0},{"$f":"SUMIF(Calculos!$B$14:$B$63,Projeção!J35,Calculos!$N$14:$N$63)","v":0},{"$f":"SUMIF(Calculos!$B$14:$B$63,Projeção!K35,Calculos!$N$14:$N$63)","v":0},{"$f":"SUMIF(Calculos!$B$14:$B$63,Projeção!L35,Calculos!$N$14:$N$63)","v":0},{"$f":"SUMIF(Calculos!$B$14:$B$63,Projeção!M35,Calculos!$N$14:$N$63)","v":0}]
[null,null,null,null,null,null,null,null,null,null,"",null,null,null,{"$f":"SUMIF(Calculos!$B$14:$B$63,Projeção!B36,Calculos!$N$14:$N$63)","v":0},{"$f":"SUMIF(Calculos!$B$14:$B$63,Projeção!C36,Calculos!$N$14:$N$63)","v":0},{"$f":"SUMIF(Calculos!$B$14:$B$63,Projeção!D36,Calculos!$N$14:$N$63)","v":0},{"$f":"SUMIF(Calculos!$B$14:$B$63,Projeção!E36,Calculos!$N$14:$N$63)","v":0},{"$f":"SUMIF(Calculos!$B$14:$B$63,Projeção!F36,Calculos!$N$14:$N$63)","v":0},{"$f":"SUMIF(Calculos!$B$14:$B$63,Projeção!G36,Calculos!$N$14:$N$63)","v":0},{"$f":"SUMIF(Calculos!$B$14:$B$63,Projeção!H36,Calculos!$N$14:$N$63)","v":0},{"$f":"SUMIF(Calculos!$B$14:$B$63,Projeção!I36,Calculos!$N$14:$N$63)","v":0},{"$f":"SUMIF(Calculos!$B$14:$B$63,Projeção!J36,Calculos!$N$14:$N$63)","v":0},{"$f":"SUMIF(Calculos!$B$14:$B$63,Projeção!K36,Calculos!$N$14:$N$63)","v":0},{"$f":"SUMIF(Calculos!$B$14:$B$63,Projeção!L36,Calculos!$N$14:$N$63)","v":0},{"$f":"SUMIF(Calculos!$B$14:$B$63,Projeção!M36,Calculos!$N$14:$N$63)","v":0}]
[null,null,null,null,null,null,null,null,null,null,"",null,null,null,{"$f":"SUMIF(Calculos!$B$14:$B$63,Projeção!B37,Calculos!$N$14:$N$63)","v":0},{"$f":"SUMIF(Calculos!$B$14:$B$63,Projeção!C37,Calculos!$N$14:$N$63)","v":0},{"$f":"SUMIF(Calculos!$B$14:$B$63,Projeção!D37,Calculos!$N$14:$N$63)","v":0},{"$f":"SUMIF(Calculos!$B$14:$B$63,Projeção!E37,Calculos!$N$14:$N$63)","v":0},{"$f":"SUMIF(Calculos!$B$14:$B$63,Projeção!F37,Calculos!$N$14:$N$63)","v":0},{"$f":"SUMIF(Calculos!$B$14:$B$63,Projeção!G37,Calculos!$N$14:$N$63)","v":0},{"$f":"SUMIF(Calculos!$B$14:$B$63,Projeção!H37,Calculos!$N$14:$N$63)","v":0},{"$f":"SUMIF(Calculos!$B$14:$B$63,Projeção!I37,Calculos!$N$14:$N$63)","v":0},{"$f":"SUMIF(Calculos!$B$14:$B$63,Projeção!J37,Calculos!$N$14:$N$63)","v":0},{"$f":"SUMIF(Calculos!$B$14:$B$63,Projeção!K37,Calculos!$N$14:$N$63)","v":0},{"$f":"SUMIF(Calculos!$B$14:$B$63,Projeção!L37,Calculos!$N$14:$N$63)","v":0},{"$f":"SUMIF(Calculos!$B$14:$B$63,Projeção!M37,Calculos!$N$14:$N$63)","v":0}]
[null,null,null,null,null,null,null,null,null,null,"",null,null,null,{"$f":"SUMIF(Calculos!$B$14:$B$63,Projeção!B38,Calculos!$N$14:$N$63)","v":0},{"$f":"SUMIF(Calculos!$B$14:$B$63,Projeção!C38,Calculos!$N$14:$N$63)","v":0},{"$f":"SUMIF(Calculos!$B$14:$B$63,Projeção!D38,Calculos!$N$14:$N$63)","v":0},{"$f":"SUMIF(Calculos!$B$14:$B$63,Projeção!E38,Calculos!$N$14:$N$63)","v":0},{"$f":"SUMIF(Calculos!$B$14:$B$63,Projeção!F38,Calculos!$N$14:$N$63)","v":0},{"$f":"SUMIF(Calculos!$B$14:$B$63,Projeção!G38,Calculos!$N$14:$N$63)","v":0},{"$f":"SUMIF(Calculos!$B$14:$B$63,Projeção!H38,Calculos!$N$14:$N$63)","v":0},{"$f":"SUMIF(Calculos!$B$14:$B$63,Projeção!I38,Calculos!$N$14:$N$63)","v":0},{"$f":"SUMIF(Calculos!$B$14:$B$63,Projeção!J38,Calculos!$N$14:$N$63)","v":0},{"$f":"SUMIF(Calculos!$B$14:$B$63,Projeção!K38,Calculos!$N$14:$N$63)","v":0},{"$f":"SUMIF(Calculos!$B$14:$B$63,Projeção!L38,Calculos!$N$14:$N$63)","v":0},{"$f":"SUMIF(Calculos!$B$14:$B$63,Projeção!M38,Calculos!$N$14:$N$63)","v":0}]
[null,null,null,null,null,null,null,null,null,null,"",null,null,null,{"$f":"SUMIF(Calculos!$B$14:$B$63,Projeção!B39,Calculos!$N$14:$N$63)","v":0},{"$f":"SUMIF(Calculos!$B$14:$B$63,Projeção!C39,Calculos!$N$14:$N$63)","v":0},{"$f":"SUMIF(Calculos!$B$14:$B$63,Projeção!D39,Calculos!$N$14:$N$63)","v":0},{"$f":"SUMIF(Calculos!$B$14:$B$63,Projeção!E39,Calculos!$N$14:$N$63)","v":0},{"$f":"SUMIF(Calculos!$B$14:$B$63,Projeção!F39,Calculos!$N$14:$N$63)","v":0},{"$f":"SUMIF(Calculos!$B$14:$B$63,Projeção!G39,Calculos!$N$14:$N$63)","v":0},{"$f":"SUMIF(Calculos!$B$14:$B$63,Projeção!H39,Calculos!$N$14:$N$63)","v":0},{"$f":"SUMIF(Calculos!$B$14:$B$63,Projeção!I39,Calculos!$N$14:$N$63)","v":0},{"$f":"SUMIF(Calculos!$B$14:$B$63,Projeção!J39,Calculos!$N$14:$N$63)","v":0},{"$f":"SUMIF(Calculos!$B$14:$B$63,Projeção!K39,Calculos!$N$14:$N$63)","v":0},{"$f":"SUMIF(Calculos!$B$14:$B$63,Projeção!L39,Calculos!$N$14:$N$63)","v":0},{"$f":"SUMIF(Calculos!$B$14:$B$63,Projeção!M39,Calculos!$N$14:$N$63)","v":0}]
[null,null,null,null,null,null,null,null,null,null,"",null,null,null,{"$f":"SUMIF(Calculos!$B$14:$B$63,Projeção!B40,Calculos!$N$14:$N$63)","v":0},{"$f":"SUMIF(Calculos!$B$14:$B$63,Projeção!C40,Calculos!$N$14:$N$63)","v":0},{"$f":"SUMIF(Calculos!$B$14:$B$63,Projeção!D40,Calculos!$N$14:$N$63)","v":0},{"$f":"SUMIF(Calculos!$B$14:$B$63,Projeção!E40,Calculos!$N$14:$N$63)","v":0},{"$f":"SUMIF(Calculos!$B$14:$B$63,Projeção!F40,Calculos!$N$14:$N$63)","v":0},{"$f":"SUMIF(Calculos!$B$14:$B$63,Projeção!G40,Calculos!$N$14:$N$63)","v":0},{"$f":"SUMIF(Calculos!$B$14:$B$63,Projeção!H40,Calculos!$N$14:$N$63)","v":0},{"$f":"SUMIF(Calculos!$B$14:$B$63,Projeção!I40,Calculos!$N$14:$N$63)","v":0},{"$f":"SUMIF(Calculos!$B$14:$B$63,Projeção!J40,Calculos!$N$14:$N$63)","v":0},{"$f":"SUMIF(Calculos!$B$14:$B$63,Projeção!K40,Calculos!$N$14:$N$63)","v":0},{"$f":"SUMIF(Calculos!$B$14:$B$63,Projeção!L40,Calculos!$N$14:$N$63)","v":0},{"$f":"SUMIF(Calculos!$B$14:$B$63,Projeção!M40,Calculos!$N$14:$N$63)","v":0}]
[null,null,null,null,null,null,null,null,null,null,"",null,null,null,{"$f":"SUMIF(Calculos!$B$14:$B$63,Projeção!B41,Calculos!$N$14:$N$63)","v":0},{"$f":"SUMIF(Calculos!$B$14:$B$63,Projeção!C41,Calculos!$N$14:$N$63)","v":0},{"$f":"SUMIF(Calculos!$B$14:$B$63,Projeção!D41,Calculos!$N$14:$N$63)","v":0},{"$f":"SUMIF(Calculos!$B$14:$B$63,Projeção!E41,Calculos!$N$14:$N$63)","v":0},{"$f":"SUMIF(Calculos!$B$14:$B$63,Projeção!F41,Calculos!$N$14:$N$63)","v":0},{"$f":"SUMIF(Calculos!$B$14:$B$63,Projeção!G41,Calculos!$N$14:$N$63)","v":0},{"$f":"SUMIF(Calculos!$B$14:$B$63,Projeção!H41,Calculos!$N$14:$N$63)","v":0},{"$f":"SUMIF(Calculos!$B$14:$B$63,Projeção!I41,Calculos!$N$14:$N$63)","v":0},{"$f":"SUMIF(Calculos!$B$14:$B$63,Projeção!J41,Calculos!$N$14:$N$63)","v":0},{"$f":"SUMIF(Calculos!$B$14:$B$63,Projeção!K41,Calculos!$N$14:$N$63)","v":0},{"$f":"SUMIF(Calculos!$B$14:$B$63,Projeção!L41,Calculos!$N$14:$N$63)","v":0},{"$f":"SUMIF(Calculos!$B$14:$B$63,Projeção!M41,Calculos!$N$14:$N$63)","v":0}]
[null,null,null,null,null,null,null,null,null,null,"",null,null,null,{"$f":"SUMIF(Calculos!$B$14:$B$63,Projeção!B42,Calculos!$N$14:$N$63)","v":0},{"$f":"SUMIF(Calculos!$B$14:$B$63,Projeção!C42,Calculos!$N$14:$N$63)","v":0},{"$f":"SUMIF(Calculos!$B$14:$B$63,Projeção!D42,Calculos!$N$14:$N$63)","v":0},{"$f":"SUMIF(Calculos!$B$14:$B$63,Projeção!E42,Calculos!$N$14:$N$63)","v":0},{"$f":"SUMIF(Calculos!$B$14:$B$63,Projeção!F42,Calculos!$N$14:$N$63)","v":0},{"$f":"SUMIF(Calculos!$B$14:$B$63,Projeção!G42,Calculos!$N$14:$N$63)","v":0},{"$f":"SUMIF(Calculos!$B$14:$B$63,Projeção!H42,Calculos!$N$14:$N$63)","v":0},{"$f":"SUMIF(Calculos!$B$14:$B$63,Projeção!I42,Calculos!$N$14:$N$63)","v":0},{"$f":"SUMIF(Calculos!$B$14:$B$63,Projeção!J42,Calculos!$N$14:$N$63)","v":0},{"$f":"SUMIF(Calculos!$B$14:$B$63,Projeção!K42,Calculos!$N$14:$N$63)","v":0},{"$f":"SUMIF(Calculos!$B$14:$B$63,Projeção!L42,Calculos!$N$14:$N$63)","v":0},{"$f":"SUMIF(Calculos!$B$14:$B$63,Projeção!M42,Calculos!$N$14:$N$63)","v":0}]
[null,null,null,null,null,null,null,null,null,null,"",null,null,null,{"$f":"SUMIF(Calculos!$B$14:$B$63,Projeção!B43,Calculos!$N$14:$N$63)","v":0},{"$f":"SUMIF(Calculos!$B$14:$B$63,Projeção!C43,Calculos!$N$14:$N$63)","v":0},{"$f":"SUMIF(Calculos!$B$14:$B$63,Projeção!D43,Calculos!$N$14:$N$63)","v":0},{"$f":"SUMIF(Calculos!$B$14:$B$63,Projeção!E43,Calculos!$N$14:$N$63)","v":0},{"$f":"SUMIF(Calculos!$B$14:$B$63,Projeção!F43,Calculos!$N$14:$N$63)","v":0},{"$f":"SUMIF(Calculos!$B$14:$B$63,Projeção!G43,Calculos!$N$14:$N$63)","v":0},{"$f":"SUMIF(Calculos!$B$14:$B$63,Projeção!H43,Calculos!$N$14:$N$63)","v":0},{"$f":"SUMIF(Calculos!$B$14:$B$63,Projeção!I43,Calculos!$N$14:$N$63)","v":0},{"$f":"SUMIF(Calculos!$B$14:$B$63,Projeção!J43,Calculos!$N$14:$N$63)","v":0},{"$f":"SUMIF(Calculos!$B$14:$B$63,Projeção!K43,Calculos!$N$14:$N$63)","v":0},{"$f":"SUMIF(Calculos!$B$14:$B$63,Projeção!L43,Calculos!$N$14:$N$63)","v":0},{"$f":"SUMIF(Calculos!$B$14:$B$63,Projeção!M43,Calculos!$N$14:$N$63)","v":0}]
[null,null,null,null,null,null,null,null,null,null,"",null,null,null,{"$f":"SUMIF(Calculos!$B$14:$B$63,Projeção!B44,Calculos!$N$14:$N$63)","v":0},{"$f":"SUMIF(Calculos!$B$14:$B$63,Projeção!C44,Calculos!$N$14:$N$63)","v":0},{"$f":"SUMIF(Calculos!$B$14:$B$63,Projeção!D44,Calculos!$N$14:$N$63)","v":0},{"$f":"SUMIF(Calculos!$B$14:$B$63,Projeção!E44,Calculos!$N$14:$N$63)","v":0},{"$f":"SUMIF(Calculos!$B$14:$B$63,Projeção!F44,Calculos!$N$14:$N$63)","v":0},{"$f":"SUMIF(Calculos!$B$14:$B$63,Projeção!G44,Calculos!$N$14:$N$63)","v":0},{"$f":"SUMIF(Calculos!$B$14:$B$63,Projeção!H44,Calculos!$N$14:$N$63)","v":0},{"$f":"SUMIF(Calculos!$B$14:$B$63,Projeção!I44,Calculos!$N$14:$N$63)","v":0},{"$f":"SUMIF(Calculos!$B$14:$B$63,Projeção!J44,Calculos!$N$14:$N$63)","v":0},{"$f":"SUMIF(Calculos!$B$14:$B$63,Projeção!K44,Calculos!$N$14:$N$63)","v":0},{"$f":"SUMIF(Calculos!$B$14:$B$63,Projeção!L44,Calculos!$N$14:$N$63)","v":0},{"$f":"SUMIF(Calculos!$B$14:$B$63,Projeção!M44,Calculos!$N$14:$N$63)","v":0}]
[null,null,null,null,null,null,null,null,null,null,"",null,null,null,{"$f":"SUMIF(Calculos!$B$14:$B$63,Projeção!B45,Calculos!$N$14:$N$63)","v":0},{"$f":"SUMIF(Calculos!$B$14:$B$63,Projeção!C45,Calculos!$N$14:$N$63)","v":0},{"$f":"SUMIF(Calculos!$B$14:$B$63,Projeção!D45,Calculos!$N$14:$N$63)","v":0},{"$f":"SUMIF(Calculos!$B$14:$B$63,Projeção!E45,Calculos!$N$14:$N$63)","v":0},{"$f":"SUMIF(Calculos!$B$14:$B$63,Projeção!F45,Calculos!$N$14:$N$63)","v":0},{"$f":"SUMIF(Calculos!$B$14:$B$63,Projeção!G45,Calculos!$N$14:$N$63)","v":0},{"$f":"SUMIF(Calculos!$B$14:$B$63,Projeção!H45,Calculos!$N$14:$N$63)","v":0},{"$f":"SUMIF(Calculos!$B$14:$B$63,Projeção!I45,Calculos!$N$14:$N$63)","v":0},{"$f":"SUMIF(Calculos!$B$14:$B$63,Projeção!J45,Calculos!$N$14:$N$63)","v":0},{"$f":"SUMIF(Calculos!$B$14:$B$63,Projeção!K45,Calculos!$N$14:$N$63)","v":0},{"$f":"SUMIF(Calculos!$B$14:$B$63,Projeção!L45,Calculos!$N$14:$N$63)","v":0},{"$f":"SUMIF(Calculos!$B$14:$B$63,Projeção!M45,Calculos!$N$14:$N$63)","v":0}]
[null,null,null,null,null,null,null,null,null,null,"",null,null,null,{"$f":"SUMIF(Calculos!$B$14:$B$63,Projeção!B46,Calculos!$N$14:$N$63)","v":0},{"$f":"SUMIF(Calculos!$B$14:$B$63,Projeção!C46,Calculos!$N$14:$N$63)","v":0},{"$f":"SUMIF(Calculos!$B$14:$B$63,Projeção!D46,Calculos!$N$14:$N$63)","v":0},{"$f":"SUMIF(Calculos!$B$14:$B$63,Projeção!E46,Calculos!$N$14:$N$63)","v":0},{"$f":"SUMIF(Calculos!$B$14:$B$63,Projeção!F46,Calculos!$N$14:$N$63)","v":0},{"$f":"SUMIF(Calculos!$B$14:$B$63,Projeção!G46,Calculos!$N$14:$N$63)","v":0},{"$f":"SUMIF(Calculos!$B$14:$B$63,Projeção!H46,Calculos!$N$14:$N$63)","v":0},{"$f":"SUMIF(Calculos!$B$14:$B$63,Projeção!I46,Calculos!$N$14:$N$63)","v":0},{"$f":"SUMIF(Calculos!$B$14:$B$63,Projeção!J46,Calculos!$N$14:$N$63)","v":0},{"$f":"SUMIF(Calculos!$B$14:$B$63,Projeção!K46,Calculos!$N$14:$N$63)","v":0},{"$f":"SUMIF(Calculos!$B$14:$B$63,Projeção!L46,Calculos!$N$14:$N$63)","v":0},{"$f":"SUMIF(Calculos!$B$14:$B$63,Projeção!M46,Calculos!$N$14:$N$63)","v":0}]
[null,null,null,null,null,null,null,null,null,null,"",null,null,null,{"$f":"SUMIF(Calculos!$B$14:$B$63,Projeção!B47,Calculos!$N$14:$N$63)","v":0},{"$f":"SUMIF(Calculos!$B$14:$B$63,Projeção!C47,Calculos!$N$14:$N$63)","v":0},{"$f":"SUMIF(Calculos!$B$14:$B$63,Projeção!D47,Calculos!$N$14:$N$63)","v":0},{"$f":"SUMIF(Calculos!$B$14:$B$63,Projeção!E47,Calculos!$N$14:$N$63)","v":0},{"$f":"SUMIF(Calculos!$B$14:$B$63,Projeção!F47,Calculos!$N$14:$N$63)","v":0},{"$f":"SUMIF(Calculos!$B$14:$B$63,Projeção!G47,Calculos!$N$14:$N$63)","v":0},{"$f":"SUMIF(Calculos!$B$14:$B$63,Projeção!H47,Calculos!$N$14:$N$63)","v":0},{"$f":"SUMIF(Calculos!$B$14:$B$63,Projeção!I47,Calculos!$N$14:$N$63)","v":0},{"$f":"SUMIF(Calculos!$B$14:$B$63,Projeção!J47,Calculos!$N$14:$N$63)","v":0},{"$f":"SUMIF(Calculos!$B$14:$B$63,Projeção!K47,Calculos!$N$14:$N$63)","v":0},{"$f":"SUMIF(Calculos!$B$14:$B$63,Projeção!L47,Calculos!$N$14:$N$63)","v":0},{"$f":"SUMIF(Calculos!$B$14:$B$63,Projeção!M47,Calculos!$N$14:$N$63)","v":0}]
[null,null,null,null,null,null,null,null,null,null,"",null,null,null,{"$f":"SUMIF(Calculos!$B$14:$B$63,Projeção!B48,Calculos!$N$14:$N$63)","v":0},{"$f":"SUMIF(Calculos!$B$14:$B$63,Projeção!C48,Calculos!$N$14:$N$63)","v":0},{"$f":"SUMIF(Calculos!$B$14:$B$63,Projeção!D48,Calculos!$N$14:$N$63)","v":0},{"$f":"SUMIF(Calculos!$B$14:$B$63,Projeção!E48,Calculos!$N$14:$N$63)","v":0},{"$f":"SUMIF(Calculos!$B$14:$B$63,Projeção!F48,Calculos!$N$14:$N$63)","v":0},{"$f":"SUMIF(Calculos!$B$14:$B$63,Projeção!G48,Calculos!$N$14:$N$63)","v":0},{"$f":"SUMIF(Calculos!$B$14:$B$63,Projeção!H48,Calculos!$N$14:$N$63)","v":0},{"$f":"SUMIF(Calculos!$B$14:$B$63,Projeção!I48,Calculos!$N$14:$N$63)","v":0},{"$f":"SUMIF(Calculos!$B$14:$B$63,Projeção!J48,Calculos!$N$14:$N$63)","v":0},{"$f":"SUMIF(Calculos!$B$14:$B$63,Projeção!K48,Calculos!$N$14:$N$63)","v":0},{"$f":"SUMIF(Calculos!$B$14:$B$63,Projeção!L48,Calculos!$N$14:$N$63)","v":0},{"$f":"SUMIF(Calculos!$B$14:$B$63,Projeção!M48,Calculos!$N$14:$N$63)","v":0}]
[null,null,null,null,null,null,null,null,null,null,"",null,null,null,{"$f":"SUMIF(Calculos!$B$14:$B$63,Projeção!B49,Calculos!$N$14:$N$63)","v":0},{"$f":"SUMIF(Calculos!$B$14:$B$63,Projeção!C49,Calculos!$N$14:$N$63)","v":0},{"$f":"SUMIF(Calculos!$B$14:$B$63,Projeção!D49,Calculos!$N$14:$N$63)","v":0},{"$f":"SUMIF(Calculos!$B$14:$B$63,Projeção!E49,Calculos!$N$14:$N$63)","v":0},{"$f":"SUMIF(Calculos!$B$14:$B$63,Projeção!F49,Calculos!$N$14:$N$63)","v":0},{"$f":"SUMIF(Calculos!$B$14:$B$63,Projeção!G49,Calculos!$N$14:$N$63)","v":0},{"$f":"SUMIF(Calculos!$B$14:$B$63,Projeção!H49,Calculos!$N$14:$N$63)","v":0},{"$f":"SUMIF(Calculos!$B$14:$B$63,Projeção!I49,Calculos!$N$14:$N$63)","v":0},{"$f":"SUMIF(Calculos!$B$14:$B$63,Projeção!J49,Calculos!$N$14:$N$63)","v":0},{"$f":"SUMIF(Calculos!$B$14:$B$63,Projeção!K49,Calculos!$N$14:$N$63)","v":0},{"$f":"SUMIF(Calculos!$B$14:$B$63,Projeção!L49,Calculos!$N$14:$N$63)","v":0},{"$f":"SUMIF(Calculos!$B$14:$B$63,Projeção!M49,Calculos!$N$14:$N$63)","v":0}]
[null,null,null,null,null,null,null,null,null,null,"",null,null,null,{"$f":"SUMIF(Calculos!$B$14:$B$63,Projeção!B50,Calculos!$N$14:$N$63)","v":0},{"$f":"SUMIF(Calculos!$B$14:$B$63,Projeção!C50,Calculos!$N$14:$N$63)","v":0},{"$f":"SUMIF(Calculos!$B$14:$B$63,Projeção!D50,Calculos!$N$14:$N$63)","v":0},{"$f":"SUMIF(Calculos!$B$14:$B$63,Projeção!E50,Calculos!$N$14:$N$63)","v":0},{"$f":"SUMIF(Calculos!$B$14:$B$63,Projeção!F50,Calculos!$N$14:$N$63)","v":0},{"$f":"SUMIF(Calculos!$B$14:$B$63,Projeção!G50,Calculos!$N$14:$N$63)","v":0},{"$f":"SUMIF(Calculos!$B$14:$B$63,Projeção!H50,Calculos!$N$14:$N$63)","v":0},{"$f":"SUMIF(Calculos!$B$14:$B$63,Projeção!I50,Calculos!$N$14:$N$63)","v":0},{"$f":"SUMIF(Calculos!$B$14:$B$63,Projeção!J50,Calculos!$N$14:$N$63)","v":0},{"$f":"SUMIF(Calculos!$B$14:$B$63,Projeção!K50,Calculos!$N$14:$N$63)","v":0},{"$f":"SUMIF(Calculos!$B$14:$B$63,Projeção!L50,Calculos!$N$14:$N$63)","v":0},{"$f":"SUMIF(Calculos!$B$14:$B$63,Projeção!M50,Calculos!$N$14:$N$63)","v":0}]
[null,null,null,null,null,null,null,null,null,null,"",null,null,null,{"$f":"SUMIF(Calculos!$B$14:$B$63,Projeção!B51,Calculos!$N$14:$N$63)","v":0},{"$f":"SUMIF(Calculos!$B$14:$B$63,Projeção!C51,Calculos!$N$14:$N$63)","v":0},{"$f":"SUMIF(Calculos!$B$14:$B$63,Projeção!D51,Calculos!$N$14:$N$63)","v":0},{"$f":"SUMIF(Calculos!$B$14:$B$63,Projeção!E51,Calculos!$N$14:$N$63)","v":0},{"$f":"SUMIF(Calculos!$B$14:$B$63,Projeção!F51,Calculos!$N$14:$N$63)","v":0},{"$f":"SUMIF(Calculos!$B$14:$B$63,Projeção!G51,Calculos!$N$14:$N$63)","v":0},{"$f":"SUMIF(Calculos!$B$14:$B$63,Projeção!H51,Calculos!$N$14:$N$63)","v":0},{"$f":"SUMIF(Calculos!$B$14:$B$63,Projeção!I51,Calculos!$N$14:$N$63)","v":0},{"$f":"SUMIF(Calculos!$B$14:$B$63,Projeção!J51,Calculos!$N$14:$N$63)","v":0},{"$f":"SUMIF(Calculos!$B$14:$B$63,Projeção!K51,Calculos!$N$14:$N$63)","v":0},{"$f":"SUMIF(Calculos!$B$14:$B$63,Projeção!L51,Calculos!$N$14:$N$63)","v":0},{"$f":"SUMIF(Calculos!$B$14:$B$63,Projeção!M51,Calculos!$N$14:$N$63)","v":0}]
[null,null,null,null,null,null,null,null,null,null,"",null,null,null,{"$f":"SUMIF(Calculos!$B$14:$B$63,Projeção!B52,Calculos!$N$14:$N$63)","v":0},{"$f":"SUMIF(Calculos!$B$14:$B$63,Projeção!C52,Calculos!$N$14:$N$63)","v":0},{"$f":"SUMIF(Calculos!$B$14:$B$63,Projeção!D52,Calculos!$N$14:$N$63)","v":0},{"$f":"SUMIF(Calculos!$B$14:$B$63,Projeção!E52,Calculos!$N$14:$N$63)","v":0},{"$f":"SUMIF(Calculos!$B$14:$B$63,Projeção!F52,Calculos!$N$14:$N$63)","v":0},{"$f":"SUMIF(Calculos!$B$14:$B$63,Projeção!G52,Calculos!$N$14:$N$63)","v":0},{"$f":"SUMIF(Calculos!$B$14:$B$63,Projeção!H52,Calculos!$N$14:$N$63)","v":0},{"$f":"SUMIF(Calculos!$B$14:$B$63,Projeção!I52,Calculos!$N$14:$N$63)","v":0},{"$f":"SUMIF(Calculos!$B$14:$B$63,Projeção!J52,Calculos!$N$14:$N$63)","v":0},{"$f":"SUMIF(Calculos!$B$14:$B$63,Projeção!K52,Calculos!$N$14:$N$63)","v":0},{"$f":"SUMIF(Calculos!$B$14:$B$63,Projeção!L52,Calculos!$N$14:$N$63)","v":0},{"$f":"SUMIF(Calculos!$B$14:$B$63,Projeção!M52,Calculos!$N$14:$N$63)","v":0}]
[null,null,null,null,null,null,null,null,null,null,"",null,null,null,{"$f":"SUMIF(Calculos!$B$14:$B$63,Projeção!B53,Calculos!$N$14:$N$63)","v":0},{"$f":"SUMIF(Calculos!$B$14:$B$63,Projeção!C53,Calculos!$N$14:$N$63)","v":0},{"$f":"SUMIF(Calculos!$B$14:$B$63,Projeção!D53,Calculos!$N$14:$N$63)","v":0},{"$f":"SUMIF(Calculos!$B$14:$B$63,Projeção!E53,Calculos!$N$14:$N$63)","v":0},{"$f":"SUMIF(Calculos!$B$14:$B$63,Projeção!F53,Calculos!$N$14:$N$63)","v":0},{"$f":"SUMIF(Calculos!$B$14:$B$63,Projeção!G53,Calculos!$N$14:$N$63)","v":0},{"$f":"SUMIF(Calculos!$B$14:$B$63,Projeção!H53,Calculos!$N$14:$N$63)","v":0},{"$f":"SUMIF(Calculos!$B$14:$B$63,Projeção!I53,Calculos!$N$14:$N$63)","v":0},{"$f":"SUMIF(Calculos!$B$14:$B$63,Projeção!J53,Calculos!$N$14:$N$63)","v":0},{"$f":"SUMIF(Calculos!$B$14:$B$63,Projeção!K53,Calculos!$N$14:$N$63)","v":0},{"$f":"SUMIF(Calculos!$B$14:$B$63,Projeção!L53,Calculos!$N$14:$N$63)","v":0},{"$f":"SUMIF(Calculos!$B$14:$B$63,Projeção!M53,Calculos!$N$14:$N$63)","v":0}]
[null,null,null,null,null,null,null,null,null,null,"",null,null,null,{"$f":"SUMIF(Calculos!$B$14:$B$63,Projeção!B54,Calculos!$N$14:$N$63)","v":0},{"$f":"SUMIF(Calculos!$B$14:$B$63,Projeção!C54,Calculos!$N$14:$N$63)","v":0},{"$f":"SUMIF(Calculos!$B$14:$B$63,Projeção!D54,Calculos!$N$14:$N$63)","v":0},{"$f":"SUMIF(Calculos!$B$14:$B$63,Projeção!E54,Calculos!$N$14:$N$63)","v":0},{"$f":"SUMIF(Calculos!$B$14:$B$63,Projeção!F54,Calculos!$N$14:$N$63)","v":0},{"$f":"SUMIF(Calculos!$B$14:$B$63,Projeção!G54,Calculos!$N$14:$N$63)","v":0},{"$f":"SUMIF(Calculos!$B$14:$B$63,Projeção!H54,Calculos!$N$14:$N$63)","v":0},{"$f":"SUMIF(Calculos!$B$14:$B$63,Projeção!I54,Calculos!$N$14:$N$63)","v":0},{"$f":"SUMIF(Calculos!$B$14:$B$63,Projeção!J54,Calculos!$N$14:$N$63)","v":0},{"$f":"SUMIF(Calculos!$B$14:$B$63,Projeção!K54,Calculos!$N$14:$N$63)","v":0},{"$f":"SUMIF(Calculos!$B$14:$B$63,Projeção!L54,Calculos!$N$14:$N$63)","v":0},{"$f":"SUMIF(Calculos!$B$14:$B$63,Projeção!M54,Calculos!$N$14:$N$63)","v":0}]
[null,null,null,null,null,null,null,null,null,null,"",null,null,null,{"$f":"SUMIF(Calculos!$B$14:$B$63,Projeção!B55,Calculos!$N$14:$N$63)","v":0},{"$f":"SUMIF(Calculos!$B$14:$B$63,Projeção!C55,Calculos!$N$14:$N$63)","v":0},{"$f":"SUMIF(Calculos!$B$14:$B$63,Projeção!D55,Calculos!$N$14:$N$63)","v":0},{"$f":"SUMIF(Calculos!$B$14:$B$63,Projeção!E55,Calculos!$N$14:$N$63)","v":0},{"$f":"SUMIF(Calculos!$B$14:$B$63,Projeção!F55,Calculos!$N$14:$N$63)","v":0},{"$f":"SUMIF(Calculos!$B$14:$B$63,Projeção!G55,Calculos!$N$14:$N$63)","v":0},{"$f":"SUMIF(Calculos!$B$14:$B$63,Projeção!H55,Calculos!$N$14:$N$63)","v":0},{"$f":"SUMIF(Calculos!$B$14:$B$63,Projeção!I55,Calculos!$N$14:$N$63)","v":0},{"$f":"SUMIF(Calculos!$B$14:$B$63,Projeção!J55,Calculos!$N$14:$N$63)","v":0},{"$f":"SUMIF(Calculos!$B$14:$B$63,Projeção!K55,Calculos!$N$14:$N$63)","v":0},{"$f":"SUMIF(Calculos!$B$14:$B$63,Projeção!L55,Calculos!$N$14:$N$63)","v":0},{"$f":"SUMIF(Calculos!$B$14:$B$63,Projeção!M55,Calculos!$N$14:$N$63)","v":0}]
[null,null,null,null,null,null,null,null,null,null,"",null,null,null,{"$f":"SUMIF(Calculos!$B$14:$B$63,Projeção!B56,Calculos!$N$14:$N$63)","v":0},{"$f":"SUMIF(Calculos!$B$14:$B$63,Projeção!C56,Calculos!$N$14:$N$63)","v":0},{"$f":"SUMIF(Calculos!$B$14:$B$63,Projeção!D56,Calculos!$N$14:$N$63)","v":0},{"$f":"SUMIF(Calculos!$B$14:$B$63,Projeção!E56,Calculos!$N$14:$N$63)","v":0},{"$f":"SUMIF(Calculos!$B$14:$B$63,Projeção!F56,Calculos!$N$14:$N$63)","v":0},{"$f":"SUMIF(Calculos!$B$14:$B$63,Projeção!G56,Calculos!$N$14:$N$63)","v":0},{"$f":"SUMIF(Calculos!$B$14:$B$63,Projeção!H56,Calculos!$N$14:$N$63)","v":0},{"$f":"SUMIF(Calculos!$B$14:$B$63,Projeção!I56,Calculos!$N$14:$N$63)","v":0},{"$f":"SUMIF(Calculos!$B$14:$B$63,Projeção!J56,Calculos!$N$14:$N$63)","v":0},{"$f":"SUMIF(Calculos!$B$14:$B$63,Projeção!K56,Calculos!$N$14:$N$63)","v":0},{"$f":"SUMIF(Calculos!$B$14:$B$63,Projeção!L56,Calculos!$N$14:$N$63)","v":0},{"$f":"SUMIF(Calculos!$B$14:$B$63,Projeção!M56,Calculos!$N$14:$N$63)","v":0}]
[null,null,null,null,null,null,null,null,null,null,"",null,null,null,{"$f":"SUMIF(Calculos!$B$14:$B$63,Projeção!B57,Calculos!$N$14:$N$63)","v":0},{"$f":"SUMIF(Calculos!$B$14:$B$63,Projeção!C57,Calculos!$N$14:$N$63)","v":0},{"$f":"SUMIF(Calculos!$B$14:$B$63,Projeção!D57,Calculos!$N$14:$N$63)","v":0},{"$f":"SUMIF(Calculos!$B$14:$B$63,Projeção!E57,Calculos!$N$14:$N$63)","v":0},{"$f":"SUMIF(Calculos!$B$14:$B$63,Projeção!F57,Calculos!$N$14:$N$63)","v":0},{"$f":"SUMIF(Calculos!$B$14:$B$63,Projeção!G57,Calculos!$N$14:$N$63)","v":0},{"$f":"SUMIF(Calculos!$B$14:$B$63,Projeção!H57,Calculos!$N$14:$N$63)","v":0},{"$f":"SUMIF(Calculos!$B$14:$B$63,Projeção!I57,Calculos!$N$14:$N$63)","v":0},{"$f":"SUMIF(Calculos!$B$14:$B$63,Projeção!J57,Calculos!$N$14:$N$63)","v":0},{"$f":"SUMIF(Calculos!$B$14:$B$63,Projeção!K57,Calculos!$N$14:$N$63)","v":0},{"$f":"SUMIF(Calculos!$B$14:$B$63,Projeção!L57,Calculos!$N$14:$N$63)","v":0},{"$f":"SUMIF(Calculos!$B$14:$B$63,Projeção!M57,Calculos!$N$14:$N$63)","v":0}]
[null,null,null,null,null,null,null,null,null,null,"",null,null,null,{"$f":"SUMIF(Calculos!$B$14:$B$63,Projeção!B58,Calculos!$N$14:$N$63)","v":0},{"$f":"SUMIF(Calculos!$B$14:$B$63,Projeção!C58,Calculos!$N$14:$N$63)","v":0},{"$f":"SUMIF(Calculos!$B$14:$B$63,Projeção!D58,Calculos!$N$14:$N$63)","v":0},{"$f":"SUMIF(Calculos!$B$14:$B$63,Projeção!E58,Calculos!$N$14:$N$63)","v":0},{"$f":"SUMIF(Calculos!$B$14:$B$63,Projeção!F58,Calculos!$N$14:$N$63)","v":0},{"$f":"SUMIF(Calculos!$B$14:$B$63,Projeção!G58,Calculos!$N$14:$N$63)","v":0},{"$f":"SUMIF(Calculos!$B$14:$B$63,Projeção!H58,Calculos!$N$14:$N$63)","v":0},{"$f":"SUMIF(Calculos!$B$14:$B$63,Projeção!I58,Calculos!$N$14:$N$63)","v":0},{"$f":"SUMIF(Calculos!$B$14:$B$63,Projeção!J58,Calculos!$N$14:$N$63)","v":0},{"$f":"SUMIF(Calculos!$B$14:$B$63,Projeção!K58,Calculos!$N$14:$N$63)","v":0},{"$f":"SUMIF(Calculos!$B$14:$B$63,Projeção!L58,Calculos!$N$14:$N$63)","v":0},{"$f":"SUMIF(Calculos!$B$14:$B$63,Projeção!M58,Calculos!$N$14:$N$63)","v":0}]
[null,null,null,null,null,null,null,null,null,null,"",null,null,null,{"$f":"SUMIF(Calculos!$B$14:$B$63,Projeção!B59,Calculos!$N$14:$N$63)","v":0},{"$f":"SUMIF(Calculos!$B$14:$B$63,Projeção!C59,Calculos!$N$14:$N$63)","v":0},{"$f":"SUMIF(Calculos!$B$14:$B$63,Projeção!D59,Calculos!$N$14:$N$63)","v":0},{"$f":"SUMIF(Calculos!$B$14:$B$63,Projeção!E59,Calculos!$N$14:$N$63)","v":0},{"$f":"SUMIF(Calculos!$B$14:$B$63,Projeção!F59,Calculos!$N$14:$N$63)","v":0},{"$f":"SUMIF(Calculos!$B$14:$B$63,Projeção!G59,Calculos!$N$14:$N$63)","v":0},{"$f":"SUMIF(Calculos!$B$14:$B$63,Projeção!H59,Calculos!$N$14:$N$63)","v":0},{"$f":"SUMIF(Calculos!$B$14:$B$63,Projeção!I59,Calculos!$N$14:$N$63)","v":0},{"$f":"SUMIF(Calculos!$B$14:$B$63,Projeção!J59,Calculos!$N$14:$N$63)","v":0},{"$f":"SUMIF(Calculos!$B$14:$B$63,Projeção!K59,Calculos!$N$14:$N$63)","v":0},{"$f":"SUMIF(Calculos!$B$14:$B$63,Projeção!L59,Calculos!$N$14:$N$63)","v":0},{"$f":"SUMIF(Calculos!$B$14:$B$63,Projeção!M59,Calculos!$N$14:$N$63)","v":0}]
[null,null,null,null,null,null,null,null,null,null,"",null,null,null,{"$f":"SUMIF(Calculos!$B$14:$B$63,Projeção!B60,Calculos!$N$14:$N$63)","v":0},{"$f":"SUMIF(Calculos!$B$14:$B$63,Projeção!C60,Calculos!$N$14:$N$63)","v":0},{"$f":"SUMIF(Calculos!$B$14:$B$63,Projeção!D60,Calculos!$N$14:$N$63)","v":0},{"$f":"SUMIF(Calculos!$B$14:$B$63,Projeção!E60,Calculos!$N$14:$N$63)","v":0},{"$f":"SUMIF(Calculos!$B$14:$B$63,Projeção!F60,Calculos!$N$14:$N$63)","v":0},{"$f":"SUMIF(Calculos!$B$14:$B$63,Projeção!G60,Calculos!$N$14:$N$63)","v":0},{"$f":"SUMIF(Calculos!$B$14:$B$63,Projeção!H60,Calculos!$N$14:$N$63)","v":0},{"$f":"SUMIF(Calculos!$B$14:$B$63,Projeção!I60,Calculos!$N$14:$N$63)","v":0},{"$f":"SUMIF(Calculos!$B$14:$B$63,Projeção!J60,Calculos!$N$14:$N$63)","v":0},{"$f":"SUMIF(Calculos!$B$14:$B$63,Projeção!K60,Calculos!$N$14:$N$63)","v":0},{"$f":"SUMIF(Calculos!$B$14:$B$63,Projeção!L60,Calculos!$N$14:$N$63)","v":0},{"$f":"SUMIF(Calculos!$B$14:$B$63,Projeção!M60,Calculos!$N$14:$N$63)","v":0}]
[null,null,null,null,null,null,null,null,null,null,"",null,null,null,{"$f":"SUMIF(Calculos!$B$14:$B$63,Projeção!B61,Calculos!$N$14:$N$63)","v":0},{"$f":"SUMIF(Calculos!$B$14:$B$63,Projeção!C61,Calculos!$N$14:$N$63)","v":0},{"$f":"SUMIF(Calculos!$B$14:$B$63,Projeção!D61,Calculos!$N$14:$N$63)","v":0},{"$f":"SUMIF(Calculos!$B$14:$B$63,Projeção!E61,Calculos!$N$14:$N$63)","v":0},{"$f":"SUMIF(Calculos!$B$14:$B$63,Projeção!F61,Calculos!$N$14:$N$63)","v":0},{"$f":"SUMIF(Calculos!$B$14:$B$63,Projeção!G61,Calculos!$N$14:$N$63)","v":0},{"$f":"SUMIF(Calculos!$B$14:$B$63,Projeção!H61,Calculos!$N$14:$N$63)","v":0},{"$f":"SUMIF(Calculos!$B$14:$B$63,Projeção!I61,Calculos!$N$14:$N$63)","v":0},{"$f":"SUMIF(Calculos!$B$14:$B$63,Projeção!J61,Calculos!$N$14:$N$63)","v":0},{"$f":"SUMIF(Calculos!$B$14:$B$63,Projeção!K61,Calculos!$N$14:$N$63)","v":0},{"$f":"SUMIF(Calculos!$B$14:$B$63,Projeção!L61,Calculos!$N$14:$N$63)","v":0},{"$f":"SUMIF(Calculos!$B$14:$B$63,Projeção!M61,Calculos!$N$14:$N$63)","v":0}]
[null,null,null,null,null,null,null,null,null,null,"",null,null,null,{"$f":"SUMIF(Calculos!$B$14:$B$63,Projeção!B62,Calculos!$N$14:$N$63)","v":0},{"$f":"SUMIF(Calculos!$B$14:$B$63,Projeção!C62,Calculos!$N$14:$N$63)","v":0},{"$f":"SUMIF(Calculos!$B$14:$B$63,Projeção!D62,Calculos!$N$14:$N$63)","v":0},{"$f":"SUMIF(Calculos!$B$14:$B$63,Projeção!E62,Calculos!$N$14:$N$63)","v":0},{"$f":"SUMIF(Calculos!$B$14:$B$63,Projeção!F62,Calculos!$N$14:$N$63)","v":0},{"$f":"SUMIF(Calculos!$B$14:$B$63,Projeção!G62,Calculos!$N$14:$N$63)","v":0},{"$f":"SUMIF(Calculos!$B$14:$B$63,Projeção!H62,Calculos!$N$14:$N$63)","v":0},{"$f":"SUMIF(Calculos!$B$14:$B$63,Projeção!I62,Calculos!$N$14:$N$63)","v":0},{"$f":"SUMIF(Calculos!$B$14:$B$63,Projeção!J62,Calculos!$N$14:$N$63)","v":0},{"$f":"SUMIF(Calculos!$B$14:$B$63,Projeção!K62,Calculos!$N$14:$N$63)","v":0},{"$f":"SUMIF(Calculos!$B$14:$B$63,Projeção!L62,Calculos!$N$14:$N$63)","v":0},{"$f":"SUMIF(Calculos!$B$14:$B$63,Projeção!M62,Calculos!$N$14:$N$63)","v":0}]
[null,null,null,null,null,null,null,null,null,null,"",null,null,null,{"$f":"SUMIF(Calculos!$B$14:$B$63,Projeção!B63,Calculos!$N$14:$N$63)","v":0},{"$f":"SUMIF(Calculos!$B$14:$B$63,Projeção!C63,Calculos!$N$14:$N$63)","v":0},{"$f":"SUMIF(Calculos!$B$14:$B$63,Projeção!D63,Calculos!$N$14:$N$63)","v":0},{"$f":"SUMIF(Calculos!$B$14:$B$63,Projeção!E63,Calculos!$N$14:$N$63)","v":0},{"$f":"SUMIF(Calculos!$B$14:$B$63,Projeção!F63,Calculos!$N$14:$N$63)","v":0},{"$f":"SUMIF(Calculos!$B$14:$B$63,Projeção!G63,Calculos!$N$14:$N$63)","v":0},{"$f":"SUMIF(Calculos!$B$14:$B$63,Projeção!H63,Calculos!$N$14:$N$63)","v":0},{"$f":"SUMIF(Calculos!$B$14:$B$63,Projeção!I63,Calculos!$N$14:$N$63)","v":0},{"$f":"SUMIF(Calculos!$B$14:$B$63,Projeção!J63,Calculos!$N$14:$N$63)","v":0},{"$f":"SUMIF(Calculos!$B$14:$B$63,Projeção!K63,Calculos!$N$14:$N$63)","v":0},{"$f":"SUMIF(Calculos!$B$14:$B$63,Projeção!L63,Calculos!$N$14:$N$63)","v":0},{"$f":"SUMIF(Calculos!$B$14:$B$63,Projeção!M63,Calculos!$N$14:$N$63)","v":0}]
[null,null,null,null,null,null,null,null,null,null,null,null,null,null,{"$f":"SUM(O14:O63)","v":2444.4444444444443},{"$f":"SUM(P14:P63)","v":0},0,0,0,0,0,0,0,0,0,0]
[null,null,null,null,null,null,null,null,null,null,null,null,null,null,{"$f":"COUNTIF(O14:O63,\">0\")","v":1},{"$f":"COUNTIF(P14:P63,\">0\")","v":0},0,0,0,0,0,0,0,0,0,0]

{"sheet":"Dash1","index":4,"n_rows":11,"n_cols":4,"rows_kept":11,"cut":false,"hidden":false,"merged":[[14,17,17,20],[10,1,10,2],[10,3,10,20]]}
[]
[]
[]
[]
[]
[]
[]
[]
[]
[]
[null,"Empresa:",null,{"$f":"Menu!G26","v":"Empresa ABCDE"}]

{"sheet":"Instruções","index":5,"n_rows":0,"n_cols":0,"rows_kept":0,"cut":false,"hidden":false,"merged":[]}

{"sheet":"Calc","index":6,"n_rows":11,"n_cols":6,"rows_kept":11,"cut":false,"hidden":false,"merged":[]}
["Salário","% INSS",null,"Salário","% IR","Dedução"]
[1045,7.4999999999999997E-2,null,0,0,0]
[2089.6,0.09,null,1903.98,7.4999999999999997E-2,142.80000000000001]
[3134.4,0.12,null,2826.65,0.15,354.8]
[6101.06,0.14000000000000001,null,3751.05,0.22500000000000001,636.13]
[null,null,null,4664.68,0.27500000000000002,869.36]
[]
[]
["Férias Vencida",{"$f":"COUNTIF(Colab!$K$14:$K$63,Calc!A9)","v":2}]
["Férias Retirada",{"$f":"COUNTIF(Colab!$K$14:$K$63,Calc!A10)","v":1}]
["Férias a Vencer",{"$f":"COUNTIF(Colab!$K$14:$K$63,Calc!A11)","v":0}]